Workbook
Name Ackerfläche: Bergzone!$C$17
Name Ackerfläche: Talzone!$C$17
Name avertissement: data!$N$6
Name DGL: Bergzone!$B$14
Name DGL: Talzone!$B$14
Name DGL_Streue: Bergzone!$D$19
Name DGL_Streue: Talzone!$Z$13
Name DGVE: Bergzone!$B$31
Name Extensivweide: Bergzone!$G$60
Name Gemüse_Freiland: Gemüse!$B$3
Name Gemüse_geschützt: Gemüse!$B$5
Name intensiv_Grünland_u_Kunstwiese: Bergzone!$B$14-Bergzone!$G$94+Bergzone!$B$16
Name intensiv_Grünland_u_Kunstwiese: Talzone!$B$14-Talzone!$G$94+Talzone!$B$16
Name Kunstwiesen_Tal: Talzone!$B$16
Name LN: Bergzone!$B$13
Name LN: data!$M$9
Name LN: 'Hof+'!$B$13
Name LN: Talzone!$B$13
Name LN: #REF!
Name LNB: Bergzone!$B$13
Name Nutzungsparzellen: Bergzone!$B$40
Name Nutzungsparzellen: Talzone!$B$40
Name öAF_mit_Bäumen: Bergzone!$G$79
Name öAF_ohne_Bäume: Bergzone!$G$76
Name öAF_ohne_Bäume: Talzone!$G$76
Name offene_Ackerfläche: Bergzone!$B$15
Name offene_Ackerfläche: Talzone!$B$15
Name Pkt_Hofplus: 'Hof+'!$E$59
Name Reben: Reben!$B$3
Name SAU: data!$O$10
Name SAU: #REF!
Name Spezialkulturen: Bergzone!$B$22
Name Spezialkulturen: data!$M$12
Name Spezialkulturen: Talzone!$B$22
Name Spezialkulturen: #REF!
Name Streuefläche: Bergzone!$G$69
Name Streuefläche: Talzone!$G$69
Name übrige_Fläche: Talzone!$B$18
Name Warnung: data!$L$6

Sheet Talzone
A1: Talgebiet (Tal- und Hügelzone) | K1: Gesamtpunktzahl: | M1: =+N232 -> 0 | U1: =+IF(LN>1,LN,0) + SUM(B14:B16) + Spezialkulturen + SUM(B27:B31) + IF(Nutzungsparzellen>1, Nutzungsparzellen,0) + B50 + SUM(G58:K73) + SUM(B101:B109) + SUM(B119:B213) + SUM(G199:G202) + SUM(K199:K202) + IF(B205,1,0) -> 0 | V1: Zielpunkte | W1: Grundbedingung | X1: 1. Grenze | Y1: 1. Wert | Z1: 2. Grenze | AA1: 2. Wert | AB1: 3. Grenze | AC1: 3. Wert | AD1: 4. Grenze | AE1: 4. Wert | AF1: 5. Grenze | AG1: 5. Wert | AH1: 6. Grenze | AI1: 6. Wert
A4: Punktesystem – Förderung der Nachhaltigkeit (Biodiversität, Ressourcenschutz) auf Landwirtschaftsbetrieben | U4: Version 2026 – 2.1
A6: Fragebogen für Betriebe im Talgebiet (Tal- und Hügelzone) | U6: Version 2023/1
A8: gelbe Felder: bitte ausfüllen; fett: anzustrebende Werte
M9: =IF(Warnung>0,"ACHTUNG: Daten in mehreren Blättern - führt zu falschen Ergebnissen","")
A10: A. Angaben zum Betrieb
A12: 1 | B12: Betriebsgrösse | O12: Name, Vorname:
A13: 1.1 | B13: 1 | C13: Landwirtschaftlich Nutzfläche, davon: | I13: % der LN: | V13: Dauergrünland_plus_Streuefläche_Tal | Z13: =+DGL+G69 -> 0
A14: 1.1.1 | B14: 0 | C14: Dauergrünland | I14: =+DGL/LN -> 0 | O14: Adresse:
A15: 1.1.2 | B15: 0 | C15: offene Ackerfläche | I15: =+offene_Ackerfläche/LN -> 0
A16: 1.1.3 | B16: 0 | C16: Kunstwiesen (601) | I16: =+B16/LN -> 0 | K16: =MAX(SUM(B14:B16),1) -> 1 | O16: PLZ: | R16: Ort:
A17: 1.1.4 | B17: è | C17: =+B16+offene_Ackerfläche -> 0 | D17: Ackerfläche (total) | I17: =+Ackerfläche/LN -> 0
A18: 1.1.5 | B18: =+LN-SUM(B14:B16) -> 1 | C18: übrige Flächen (Streueflächen, Dauerkulturen usw.) | J18: =DGL+G69 -> 0
B20: Spezialkulturen
B21: =+LN -> 1 | C21: Landwirtschaftlich Nutzfläche, davon:
A22: 1.1.6 | B22: 0 | C22: Spezialkulturen (alle Codes)
A23: 1.1.6.1 | B23: =+LN-Spezialkulturen -> 1 | C23: LN ohne Spezialkulturen
B25: Zonen
A26: 1.2 | B26: =LN-B27-B28 -> 1 | C26: LN in Tal- und Hügelzone | I26: =+B26/LN -> 1 | J26: =+IF(B26<0,"LN Tal muss >= 0 sein!"," ") | O26: Betriebsnr.: | S26: IPS-Nr.:
A27: 1.2.1 | B27: 0 | C27: LN in Bergzone I und BZ II | I27: =+B27/LN -> 0
A28: 1.2.2 | B28: 0 | C28: LN in Bergzone III und BZ IV | I28: =+B28/LN -> 0 | O28: Telefon:
B29: =+IF(B28+B27>B26,"Bergbetrieb: Füllen Sie bitte den Fragebogen 'Berg' aus"," ")
B30: Viehbesatz | O30: eMail:
A31: 2 | B31: 0 | C31: GVE total è | E31: =+B31/LN -> 0 | F31: GVE/ha
A33: B. Biodiversität | M33: Punkte | O33: 1 Pkt. | P33: 2 Pkt. | Q33: 3 Pkt. | U33: Einheit
B35: Viehbesatz
A36: 2 | B36: 0 | C36: DGVE total
C37: è | D37: =+B36/B13 -> 0 | E37: DGVE/ha | M37: =+IF(D37<AD37,AE37,IF(D37<AB37,AC37,IF(D37<=Z37,AA37,IF(D37<=X37,Y37,)))) -> 3 | O37: =+">"&Z37&"-"&X37 -> >1.3-1.6 | P37: =+AB37&"-"&Z37 -> 1-1.3 | Q37: =+AB37&"-"&AD37 -> 1- | R37: =+"<"&AD37 -> < | U37: DGVE/ha: | X37: 1.6 | Y37: 1 | Z37: 1.3 | AA37: 2 | AB37: 1 | AC37: 3
B39: Nutzungsparzellen
A40: 3 | B40: 1 | C40: Anzahl Nutzungsparzellen (ohne BFF)
B41: è | C41: =(LN-öAF_ohne_Bäume)/(Nutzungsparzellen) -> 1 | D41: durchschnittliche Grösse | M41: =+IF(Nutzungsparzellen=1,0,IF(C41<AB41,AC41,IF(C41<Z41,AA41,IF(C41<=X41,Y41,)))) -> 0 | O41: =Z41&"–"&X41 -> 1.3–1.6 | P41: =+AB41&"–<"&Z41 -> 1–<1.3 | Q41: =+"<"&AB41 -> <1 | U41: ha | V41: 2 | X41: 1.6 | Y41: 1 | Z41: 1.3 | AA41: 2 | AB41: 1 | AC41: 3
B45: Nutzungstypen
B46: welche Nutzungstypen nehmen mind. 8% der LN auf dem Betrieb ein?
B47: FALSE | E47: FALSE | I47: FALSE
B48: FALSE | E48: FALSE | I48: FALSE
B49: FALSE | E49: FALSE | I49: FALSE
A50: 4 | B50: =COUNTIF(A47:J49,TRUE) -> 0 | C50: Nutzungstypen | M50: =IF(B50>AB50,AC50,IF(B50>Z50,AA50,IF(B50>=X50,Y50,0))) -> 0 | O50: =+X50&"–"&Z50 -> 1–2 | P50: =+Z50+1&"–"&AB50 -> 3–5 | Q50: =+">="&AB50+1 -> >=6 | U50: Typen | V50: 2 | X50: 1 | Y50: 1 | Z50: 2 | AA50: 2 | AB50: 5 | AC50: 3
A52: Biodiversitätsförderung | M52: Punkte | N52: Summe | O52: 1 Pkt. | P52: 2 Pkt. | Q52: 3 Pkt. | R52: 4 Pkt. | S52: 5 Pkt. | T52: 6 Pkt. | U52: Einheit
A54: 5 | B54: Biodiversitätsförderflächen (BFF)
B55: Typ | G55: angemeldet | I55: davon | K55: davon mit
I56: Qualität II | K56: Strukturvielfalt
A58: 5.1 | B58: extensive Wiesen (611) | G58: 0 | I58: 0 | K58: 0 | M58: =IF(SUM(G58:G60, G69)>DGL,"Fläche der BFF auf Grünland darf nicht grösser sein als Dauergrünland","")
A59: 5.2 | B59: wenig intensive Wiesen (612) | G59: 0 | I59: 0 | K59: 0
A60: 5.3 | B60: extensive Weide (617) und Waldw. (618, 625) | G60: 0 | I60: 0 | K60: 0
A61: 5.4 | B61: Buntbrachen (556) | G61: 0 | I61: =G61 -> 0 | K61: =G61 -> 0
A62: 5.5 | B62: Rotationsbrachen (557) | G62: 0 | I62: =G62 -> 0 | K62: =G62 -> 0
A63: 5.6 | B63: Säume auf Ackerfläche (559) | G63: 0 | I63: =G63 -> 0 | K63: =G63 -> 0
A64: 5.7 | B64: Ackerschonstreifen | G64: 0 | I64: =G64 -> 0
A65: 5.8 | B65: Nützlingsstreifen (572) | G65: 0
B66: davon mehrjährige | I66: 0 | K66: =+I66 -> 0
A67: 5.8.1 | B67: Nützlingsstreifen in Dauerkulturen | G67: 0
A68: 5.9 | B68: Hecken, Feld- und Ufergehölze (582, 585) | G68: 0 | I68: 0 | K68: 0
A69: 5.10 | B69: Streueflächen (851) | G69: 0 | I69: =G69 -> 0 | K69: 0
A70: 5.11 | B70: Uferwiesen (635) | G70: 0 | K70: 0
A71: 5.12 | B71: Rebflächen mit natürlicher Artenvielfalt (717) | G71: 0 | I71: 0 | K71: 0
A72: 5.13 | B72: übrige Typen (904, 905) | G72: 0
A73: 5.14 | B73: Bäume als BFF (921, 924) | G73: 0 | I73: 0
B74: è | C74: Bäume als Fläche | G74: =+G73*0.01 -> 0 | I74: =+I73*0.01 -> 0
A76: 5.15 | B76: Total BFF ohne Bäume | G76: =+SUM(G58:G65, G68:G72) + (G67*0.05) -> 0 | I76: =SUM(I57:I71) -> 0 | K76: =SUM(K58:K72) -> 0
A77: 5.15.1 | B77: in % der LN | G77: =+G76/LN -> 0 | W77: =+IF(G77<=0.056,1,0) -> 1
A79: 5.16 | B79: Total BFF inkl. Bäume | G79: =+öAF_ohne_Bäume+G74 -> 0 | I79: =+I76+I74 -> 0 | W79: =+IF(G76/LN<0.072,1,0) -> 1
B81: =LN-Spezialkulturen -> 1 | C81: LN ohne Spezialkulturen à 9 % BFF
B82: =Spezialkulturen -> 0 | C82: Spezialkulturen à 5 % BFF
B83: Minimaler Anteil BFF | G83: =(Spezialkulturen*0.05 + (LN-Spezialkulturen)*0.09)/LN -> 0.09
A84: 5.16.1 | B84: Anteil BFF an LN in % | G84: =+G79/LN -> 0 | M84: =+IF(G84>AH84,AI84,IF(G84>AF84,AG84,IF(G84>AD84,AE84,IF(G84>AB84,AC84,IF(G84>Z84,AA84,IF(G84>=X84,Y84,0)))))) -> 0 | O84: =+X84*100&"–"&Z84*100 -> 7–9 | P84: =+">"&Z84*100&"–"&AB84*100 -> >9–12 | Q84: =+">"&AB84*100&"–"&AD84*100 -> >12–15 | R84: =+">"&AD84*100&"–"&AF84*100 -> >15–18 | S84: =+">"&AF84*100&"–"&AH84*100 -> >18–21 | T84: =+">"&AH84*100 -> >21 | U84: % | V84: 2 | X84: 0.07 | Y84: 1 | Z84: 0.09 | AA84: 2 | AB84: 0.12 | AC84: 3 | AD84: 0.15 | AE84: 4 | AF84: 0.18 | AG84: 5 | AH84: 0.21 | AI84: 6
C87: =+IF(AND(G84<G83, M1<22), "Es müssen mindestens " &G83*100 &"% BFF auf der LN oder 22 Biodiversitätspunkte vorhanden sein, um die Labelbedingungen zu erfüllen!","") -> Es müssen mindestens 9% BFF auf der LN oder 22 Biodiversitätspunkte vorhanden sein, um die Labelbedingungen zu erfüllen!
A88: 5.17 | B88: BFF auf Ackerflächen gemäss DZV | G88: =+G61+G62+G63+G64+G65 + IF(offene_Ackerfläche>=3,MIN(Ackerfläche*0.0175,#REF!),0) -> 0
A89: 5.17.1 | B89: % auf Ackerflächen | G89: =+IF(Ackerfläche>0,G88/Ackerfläche,0) -> 0 | W89: =+IF(Ackerfläche<=3,0,IF(G89>=0.03,0,1)) -> 0
A91: 5.17.2 | B91: BFF auf Acker in IPS-Qualität | I91: =+G61+G62+G63+G64+I66 -> 0
A92: 5.17.3 | B92: % auf Ackerflächen | I92: =+IF(Ackerfläche>0,I91/Ackerfläche,0) -> 0 | N92: =+IF(I92>=1,"BFF auf Acker dürfen nicht mehr als 100% der AF betragen","")
A94: 5.18 | B94: BFF auf Dauergrünland/Streueflächen | G94: =+G58+G59+G60+G68+G69+G70 -> 0 | I94: =+SUM(I58:K60)+SUM(I68:K69) -> 0
A95: 5.18.1 | B95: % auf Dauergrünland/Streueflächen | G95: =+IF(DGL_Streue>0,G94/DGL_Streue,0) -> 0 | I95: =+IF(DGL_Streue>0,I94/DGL_Streue,0) -> 0 | W95: =+IF(DGL<=3,0,IF(G95>=0.09,,1)) -> 0
A97: 5.19 | B97: Total hochwertige BFF in IPS-Qualität | I97: =I79 -> 0
A98: 5.19.1 | B98: in % der LN | I98: =+I97/LN -> 0 | M98: =+IF(I98<X98,0,IF(I98>AH98,AI98,1+(100*I98-2))) -> 0 | P98: 2 | R98: linear | T98: =+">"&AH98*100 -> >7 | U98: % | X98: 0.02 | Y98: 1 | AA98: linear! | AH98: 0.07 | AI98: 6
A100: 6.1 | B100: =+G79-B101-B102 -> 0 | C100: BFF in der Tal-/Hügelzone
A101: 6.1.1 | B101: 0 | C101: BFF in der BZ I oder BZ II
A102: 6.1.2 | B102: 0 | C102: BFF in der BZ III oder BZ IV
A104: 7 | B104: Grossflächige BFF in IPSQualität
A105: 7.1 | B105: 0 | C105: Anzahl Flächen > 25 a der Typen BB, RB und Saum
B106: è | C106: =+IF(Ackerfläche>0,B105/Ackerfläche*20,0) -> 0 | D106: grossflächige BFF pro 20 ha Ackerfläche
B107: è | D107: =+"Teilpunkte auf Ackerfläche (=" & +ROUND(Ackerfläche/LN*100,0) &"% der LN)" -> Teilpunkte auf Ackerfläche (=0% der LN) | M107: =+IF(C106>AF107,AG107,IF(C106>AD107,AE107,IF(C106>AB107,AC107,IF(C106>Z107,AA107,IF(C106>=X107,Y107,0))))) -> 0 | P107: =+X107&"–"&Z107 -> 1–2 | Q107: =+">"&Z107&"–"&AB107 -> >2–3 | R107: =+">"&AB107&"–"&AD107 -> >3–4 | S107: =+">"&AD107&"–"&AF107 -> >4–5 | T107: =+">"&AF107 -> >5 | U107: pro 20 ha | X107: 1 | Y107: 2 | Z107: 2 | AA107: 3 | AB107: 3 | AC107: 4 | AD107: 4 | AE107: 5 | AF107: 5 | AG107: 6
B108: è | D108: Teilpunkte bezogen auf LN | M108: =+M107*Ackerfläche/LN -> 0
A109: 7.2 | B109: 0 | C109: Anzahl Flächen > 25 a mit IPS-Qualität der Typen exWi, wiWi, exWeide, Hecke oder Streue
B110: è | C110: =+IF(DGL_Streue>0,B109/DGL_Streue*20,0) -> 0 | D110: grossflächige BFF pro 20 ha Dauergrünland oder Streueflächen
B111: è | D111: =+"Teilpunkte auf Dauergrünland inkl. Streueflächen (=" & +ROUND(DGL/LN*100,0) &"% der LN)" -> Teilpunkte auf Dauergrünland inkl. Streueflächen (=0% der LN) | M111: =+IF(C110>AF111,AG111,IF(C110>AD111,AE111,IF(C110>AB111,AC111,IF(C110>Z111,AA111,IF(C110>=X111,Y111,0))))) -> 0 | P111: =+X111&"–"&Z111 -> 2–3 | Q111: =+">"&Z111&"–"&AB111 -> >3–4 | R111: =+">"&AB111&"–"&AD111 -> >4–5 | S111: =+">"&AD111&"–"&AF111 -> >5–6 | T111: =+">"&AF111 -> >6 | U111: pro 20 ha | X111: 2 | Y111: 2 | Z111: 3 | AA111: 3 | AB111: 4 | AC111: 4 | AD111: 5 | AE111: 5 | AF111: 6 | AG111: 6
B112: è | D112: Teilpunkte bezogen auf LN | M112: =+M111*DGL_Streue/LN -> 0 | V112: 3
A114: 8 | B114: BFF mit Strukturvielfalt
A115: 8.1 | B115: =+K76 -> 0 | C115: Total BFF mit Strukturvielfalt
B116: è | C116: =+B115/LN -> 0 | D116: der LN | M116: =+IF(C116>AB116,AC116,IF(C116>Z116,AA116,IF(C116>=X116,Y116,0))) -> 0 | O116: =+X116*100&"–"&Z116*100 -> 4–5 | P116: =+">"&Z116*100&"–"&AB116*100 -> >5–7 | Q116: =+">"&AB116*100 -> >7 | U116: % | V116: 2 | X116: 0.04 | Y116: 1 | Z116: 0.05 | AA116: 2 | AB116: 0.07 | AC116: 3
A118: 9 | B118: räumliche Verteilung der BFF
A119: 9.1 | B119: 0 | C119: Anzahl BFF >10 a der Typen Bunt-, Rotationsbrache, Saum oder Ackerschonstreifen
B120: è | C120: =+IF(Ackerfläche>0,B119/Ackerfläche*20,0) -> 0 | D120: BFF auf 20 ha Ackerfläche
B121: è | D121: =+"Teilpunkte auf Ackerfläche (=" & +ROUND(Ackerfläche/LN*100,0) &"% der LN)" -> Teilpunkte auf Ackerfläche (=0% der LN) | M121: =+IF(C120>AD121,AE121,IF(C120>AB121,AC121,IF(C120>Z121,AA121,IF(C120>=X121,Y121,0)))) -> 0 | O121: =+X121&"–"&Z121 -> 1.5–3 | P121: =+">"&Z121&"–"&AB121 -> >3–4.5 | Q121: =+">"&AB121&"–"&AD121 -> >4.5–6 | R121: =+">"&AD121 -> >6 | U121: Anzahl | V121: 3 | X121: 1.5 | Y121: 1 | Z121: 3 | AA121: 2 | AB121: 4.5 | AC121: 3 | AD121: 6 | AE121: 4
B122: è | D122: Teilpunkte bezogen auf LN | M122: =+M121*Ackerfläche/LN -> 0
A123: 9.2 | B123: 0 | C123: Anzahl BFF >10 a der Typen extensiv / wenig int. Wiesen / Weiden, Hecken oder Streuefl.
B124: è | C124: =+IF(DGL_Streue,B123/DGL_Streue*20,0) -> 0 | D124: BFF bezogen auf 20 ha Grün- und Streueland
B125: è | D125: =+"Teilpunkte auf Dauergrünland oder Streueflächen (=" & +ROUND(DGL/LN*100,0) &"% der LN) " -> Teilpunkte auf Dauergrünland oder Streueflächen (=0% der LN) | M125: =+IF(C124>AD125,AE125,IF(C124>AB125,AC125,IF(C124>Z125,AA125,IF(C124>=X125,Y125,0)))) -> 0 | O125: =+X125&"–"&Z125 -> 3–5 | P125: =+">"&Z125&"–"&AB125 -> >5–7 | Q125: =+">"&AB125&"–"&AD125 -> >7–9 | R125: =+">"&AD125 -> >9 | U125: Anzahl | X125: 3 | Y125: 1 | Z125: 5 | AA125: 2 | AB125: 7 | AC125: 3 | AD125: 9 | AE125: 4
B126: è | D126: Teilpunkte bezogen auf LN | M126: =+M125*DGL_Streue/LN -> 0
A128: Punkte Betrieb und Biodiversitätsförderung | N128: =+M126+M122+M116+M112+M108+M98+M84+M50+M41 -> 0
A129: Aufwertungsmassnahmen auf Produktionsflächen
...

Sheet Bergzone
A1: Berggebiet (Bergzone I-IV) | K1: Gesamtpunktzahl: | M1: =+N232 -> 0 | U1: =+IF(LN>1,LN) + SUM(B14:B16) + SUM(B27:B28) + B31 + IF(Nutzungsparzellen>1,Nutzungsparzellen) + B50 + SUM(G58:M73) + SUM(B100:B102) + SUM(B105:B115) + SUM(B119:B193) + SUM(B208:B213) + SUM(G199:G202) + SUM(M217:M223) -> 0 | V1: Zielpunkte | W1: Grundbedingung | X1: 1. Grenze | Y1: 1. Wert | Z1: 2. Grenze | AA1: 2. Wert | AB1: 3. Grenze | AC1: 3. Wert | AD1: 4. Grenze | AE1: 4. Wert | AF1: 5. Grenze | AG1: 5. Wert | AH1: 6. Grenze | AI1: 6. Wert
A4: Punktesystem – Förderung der Nachhaltigkeit (Biodiversität, Ressourcenschutz) auf Landwirtschaftsbetrieben | U4: Version 2026 – 2.2
A6: Fragebogen für Betriebe im Berggebiet (Bergzonen I-IV) | U6: Version 2010/1c
A8: gelbe Felder: bitte ausfüllen; fett: anzustrebende Werte
M9: =IF(Warnung>0,"ACHTUNG: Daten in mehreren Blättern - führt zu falschen Ergebnissen","")
A10: A. Angaben zum Betrieb
A12: 1 | B12: Betriebsgrösse
A13: 1.1 | B13: 1 | C13: Landwirtschaftlich Nutzfläche, davon: | I13: % der LN: | O13: Name, Vorname:
A14: 1.1.1 | B14: 0 | C14: Dauergrünland | I14: =+DGL/LN -> 0
A15: 1.1.2 | B15: 0 | C15: offene Ackerfläche | I15: =+offene_Ackerfläche/LN -> 0 | O15: Adresse: | W15: nicht Ackerfläche
A16: 1.1.3 | B16: 0 | C16: Kunstwiesen (601) | I16: =+B16/LN -> 0 | K16: =MAX(SUM(B14:B16),1) -> 1
A17: 1.1.4 | B17: è | C17: =+B16+offene_Ackerfläche -> 0 | D17: Ackerfläche (total) | I17: =+Ackerfläche/LN -> 0 | O17: PLZ: | R17: Ort:
A18: 1.1.5 | B18: =+LN-SUM(B14:B16) -> 1 | C18: übrige Flächen (Streueflächen, Dauerkulturen usw.)
C19: è | D19: =+DGL+Streuefläche+G68 -> 0 | E19: Grünland_plus_Streueland
B20: Spezialkulturen
B21: =+LNB -> 1 | C21: Landwirtschaftlich Nutzfläche, davon:
A22: 1.1.6 | B22: 0 | C22: Spezialkulturen (alle Codes)
A23: 1.1.6.1 | B23: =+LNB-Spezialkulturen -> 1 | C23: LN ohne Spezialkulturen
B25: Zonen
A26: 1.2 | B26: =LN-B27-B28 -> 1 | C26: LN in Tal- und Hügelzone | I26: =+B26/LN -> 1 | O26: Betriebsnummer: | S26: IPS-Nummer:
A27: 1.2.1 | B27: 0 | C27: LN in Bergzone I - II | I27: =+B27/LN -> 0 | K27: =+IF(AND(I27>I26,I27>I28),"Betrieb BZ I","")
A28: 1.2.2 | B28: 0 | C28: LN in Bergzone III- IV | I28: =+B28/LN -> 0 | K28: =+IF(AND(I28>I26,I28>=I27),"Betrieb BZ II-IV","") | O28: Telefon:
B29: =+IF(AND(I26>I27+I28,B26<>1),"Talbetrieb, bitte füllen sie den Fragebogen 'Talzone' aus","")
B30: Viehbesatz | O30: eMail:
A31: 2 | B31: 0 | C31: DGVE total è | E31: =+B31/LN -> 0 | F31: DGVE/ha
A33: B. Biodiversität | M33: Punkte | O33: 1 Pkt. | P33: 2 Pkt. | Q33: 3 Pkt. | R33: 4 Pkt. | U33: Einheit
B35: Viehbesatz
A36: 2 | B36: 0 | C36: DGVE total
C37: è | D37: =+B36/B13 -> 0 | E37: DGVE/ha | M37: =+IF(D37<AD37,AE37,IF(D37<AB37,AC37,IF(D37<=Z37,AA37,IF(D37<=X37,Y37,)))) -> 3 | O37: =+">"&Z37&"-"&X37 -> >1.3-1.6 | P37: =+AB37&"-"&Z37 -> 1-1.3 | Q37: =+AB37&"-"&AD37 -> 1- | R37: =+"<"&AD37 -> < | U37: DGVE/ha: | X37: 1.6 | Y37: 1 | Z37: 1.3 | AA37: 2 | AB37: 1 | AC37: 3
B39: Nutzungsparzellen
A40: 3 | B40: 1 | C40: Anzahl Nutzungsparzellen (ohne BFF)
C41: è | D41: =(LN-öAF_ohne_Bäume)/(Nutzungsparzellen) -> 1 | E41: durchschnittliche Grösse
B42: =+IF(I27>I28,"Betrieb BZ I - II","diese Zeile ist für Betriebe BZ III - IV nicht relevant") -> diese Zeile ist für Betriebe BZ III - IV nicht relevant | M42: =+IF(Nutzungsparzellen=1,0,IF(I27>I28,IF(D41<AD42,AE42,IF(D41<AB42,AC42,IF(D41<Z42,AA42,IF(D41<X42,Y42,0)))),0)) -> 0 | O42: =Z42&"–"&X42 -> 1.1–1.3 | P42: =+AB42&"–<"&Z42 -> 0.9–<1.1 | Q42: =+AD42&"–<"&AB42 -> 0.7–<0.9 | R42: =+"<"&AD42 -> <0.7 | U42: durchschn. ha | X42: 1.3 | Y42: 1 | Z42: 1.1 | AA42: 2 | AB42: 0.9 | AC42: 3 | AD42: 0.7 | AE42: 4
B43: =+IF(I28>=I27,"Betrieb BZ III - IV","diese Zeile ist für Betriebe BZ I - II nicht relevant") -> Betrieb BZ III - IV | M43: =IF(Nutzungsparzellen=1,0,IF(I28>=I27,IF(D41<AD43,AE43,IF(D41<AB43,AC43,IF(D41<Z43,AA43,IF(D41<X43,Y43,0)))),0)) -> 0 | O43: =Z43&"–"&X43 -> 0.9–1.1 | P43: =+AB43&"–<"&Z43 -> 0.7–<0.9 | Q43: =+AD43&"–<"&AB43 -> 0.5–<0.7 | R43: =+"<"&AD43 -> <0.5 | U43: durchschn. ha | V43: 2 | X43: 1.1 | Y43: 1 | Z43: 0.9 | AA43: 2 | AB43: 0.7 | AC43: 3 | AD43: 0.5 | AE43: 4
B45: Nutzungstypen
B46: welche Nutzungstypen nehmen mind. 8% der LN auf dem Betrieb ein?
B47: FALSE | E47: FALSE | I47: FALSE
B48: FALSE | E48: FALSE | I48: FALSE
B49: FALSE | E49: FALSE | I49: FALSE
A50: 4 | B50: =COUNTIF(A47:J49,TRUE) -> 0 | C50: Nutzungstypen | M50: =IF(B50>=AD50,AE50,IF(B50>=AB50,AC50,IF(B50>=Z50,AA50,0))) -> 0 | P50: =+Z50 -> 2 | Q50: =+AB50 -> 3 | R50: =+">="&AD50 -> >=4 | U50: Nutzungstypen | V50: 2 | Z50: 2 | AA50: 2 | AB50: 3 | AC50: 3 | AD50: 4 | AE50: 4
A52: Biodiversitätsförderung | M52: Punkte | N52: Summe | O52: 1 Pkt. | P52: 2 Pkt. | Q52: 3 Pkt. | R52: 4 Pkt. | S52: 5 Pkt. | T52: 6 Pkt. | U52: Einheit
A54: 5 | B54: Biodiversitätsförderflächen (BFF)
B55: Typ | G55: angemeldet | I55: davon | K55: davon mit
I56: Qualität II | K56: Strukturvielfalt
A58: 5.1 | B58: extensive Wiesen (611) | G58: 0 | I58: 0 | K58: 0 | M58: =IF(SUM(G58:G60, G69)>DGL,"Fläche der BFF auf Grünland darf nicht grösser sein als Dauergrünland","")
A59: 5.2 | B59: wenig intensive Wiesen (612) | G59: 0 | I59: 0 | K59: 0
A60: 5.3 | B60: extensive Weide (617) und Waldw. | G60: 0 | I60: 0 | K60: 0
A61: 5.4 | B61: Buntbrachen (556) | G61: 0 | I61: =G61 -> 0 | K61: =G61 -> 0
A62: 5.5 | B62: Rotationsbrachen (557) | G62: 0 | I62: =G62 -> 0 | K62: =G62 -> 0
A63: 5.6 | B63: Säume auf Ackerfläche (559) | G63: 0 | I63: =G63 -> 0 | K63: =G63 -> 0
A64: 5.7 | B64: Ackerschonstreifen | G64: 0 | I64: =G64 -> 0
A65: 5.8 | B65: Nützlingsstreifen (572) | G65: 0
B66: davon mehrjährige | I66: 0 | K66: =+I66 -> 0
A67: 5.8.1 | B67: Nützlingsstreifen in Dauerkulturen | G67: 0
A68: 5.9 | B68: Hecken, Feld- und Ufergehölze (582, 585) | G68: 0 | I68: 0 | K68: 0
A69: 5.10 | B69: Streueflächen (851) | G69: 0 | I69: =G69 -> 0 | K69: 0
A70: 5.11 | B70: Uferwiesen (635) | G70: 0 | K70: 0
A71: 5.12 | B71: Rebflächen mit natürlicher Artenvielfalt (717) | G71: 0 | I71: 0 | K71: 0
A72: 5.13 | B72: übrige Typen (904, 905) | G72: 0
A73: 5.14 | B73: Bäume als BFF (921, 924) | G73: 0 | I73: 0
B74: è | C74: Bäume als Fläche | G74: =+G73*0.01 -> 0 | I74: =+I73*0.01 -> 0
A76: 5.15 | B76: Total BFF ohne Bäume | G76: =+SUM(G58:G65, G68:G72) + (G67*0.05) -> 0 | I76: =SUM(I58:I71) -> 0 | K76: =SUM(K58:K72) -> 0
A77: 5.15.1 | B77: in % der LN | G77: =+G76/LN -> 0 | W77: =+IF(AND(LN<>1,G77<=0.056),1,0) -> 0
A79: 5.16 | B79: Total BFF inkl. Bäume | G79: =+öAF_ohne_Bäume+G74 -> 0 | I79: =+I76+I74 -> 0 | W79: =+IF(AND(LN<>1,G76/LN<0.072),1,0) -> 0
B81: =LN-Spezialkulturen -> 1 | C81: LN ohne Spezialkulturen à 9 % BFF
B82: =Spezialkulturen -> 0 | C82: Spezialkulturen à 5 % BFF
B83: Minimaler Anteil BFF | G83: =(Spezialkulturen*0.05 + (LN-Spezialkulturen)*0.09)/LN -> 0.09
A84: 5.16.1 | B84: in % der LN | G84: =+G79/LN -> 0
A85: 5.16.2 | B85: =+IF(I27>I28,"Betrieb BZ I - II","für Betriebe BZ I - II nicht relevant") -> für Betriebe BZ I - II nicht relevant | M85: =+IF(I27>I28,IF(G84>AH85,AI85,IF(G84>AF85,AG85,IF(G84>AD85,AE85,IF(G84>AB85,AC85,IF(G84>Z85,AA85,IF(G84>=X85,Y85,0)))))),0) -> 0 | O85: =X85*100&"–"&Z85*100 -> 7–9 | P85: =+">"&Z85*100&"–"&AB85*100 -> >9–12 | Q85: =+">"&AB85*100&"–"&AD85*100 -> >12–15 | R85: =+">"&AD85*100&"–"&AF85*100 -> >15–18 | S85: =+">"&AF85*100&"–"&AH85*100 -> >18–21 | T85: =+">"&AH85*100 -> >21 | U85: % | V85: 2 | X85: 0.07 | Y85: 1 | Z85: 0.09 | AA85: 2 | AB85: 0.12 | AC85: 3 | AD85: 0.15 | AE85: 4 | AF85: 0.18 | AG85: 5 | AH85: 0.21 | AI85: 6
A86: 5.16.3 | B86: =+IF(I28>=I27,"Betrieb BZ III - IV","für Betriebe BZ III - IV nicht relevant") -> Betrieb BZ III - IV | M86: =+IF(I28>I27,IF(G84>AH86,AI86,IF(G84>AF86,AG86,IF(G84>AD86,AE86,IF(G84>AB86,AC86,IF(G84>Z86,AA86,IF(G84>=X86,Y86,0)))))),0) -> 0 | O86: =X86*100&"–"&Z86*100 -> 12–15 | P86: =+">"&Z86*100&"–"&AB86*100 -> >15–20 | Q86: =+">"&AB86*100&"–"&AD86*100 -> >20–25 | R86: =+">"&AD86*100&"–"&AF86*100 -> >25–30 | S86: =+">"&AF86*100&"–"&AH86*100 -> >30–35 | T86: =+">"&AH86*100 -> >35 | U86: % | X86: 0.12 | Y86: 1 | Z86: 0.15 | AA86: 2 | AB86: 0.2 | AC86: 3 | AD86: 0.25 | AE86: 4 | AF86: 0.3 | AG86: 5 | AH86: 0.35 | AI86: 6
C87: =+IF(AND(G84<G83,M1<22), "Es müssen mindestens " &G83*100 &"% BFF auf der LN oder 22 Biodiversitätspunkte vorhanden sein, um die Labelbedingungen zu erfüllen!","") -> Es müssen mindestens 9% BFF auf der LN oder 22 Biodiversitätspunkte vorhanden sein, um die Labelbedingungen zu erfüllen!
A88: 5.17 | B88: BFF auf Ackerflächen gemäss DZV | G88: =+G63+G64+G65+G67+G68 + IF(offene_Ackerfläche>=3,MIN(Ackerfläche*0.0175,G74),0) -> 0
A89: 5.17.1 | B89: % auf Ackerflächen | G89: =+IF(Ackerfläche>0,G88/Ackerfläche,0) -> 0 | W89: =+IF(Ackerfläche<=3,0,IF(G89>=0.03,0,1)) -> 0
A91: 5.17.2 | B91: BFF auf Acker in IPS-Qualität | I91: =+G61+G62+G63+G64+I66 -> 0
A92: 5.17.3 | B92: % auf Ackerflächen | I92: =+IF(Ackerfläche>0,I91/Ackerfläche,0) -> 0
A94: 5.18 | B94: BFF auf Dauergrünland/Streueflächen | G94: =G58+G59+G60+G68+G69+G70 -> 0 | I94: =+SUM(I58:K60)+SUM(I68:K69) -> 0
A95: 5.18.1 | B95: % auf Dauergrünland/Streueflächen | G95: =+IF(DGL_Streue>0,G94/DGL_Streue,0) -> 0 | I95: =+IF(DGL_Streue>0,I94/DGL_Streue,0) -> 0 | W95: =+IF(DGL<=3,0,IF(G95>=0.09,,1)) -> 0
A97: 5.19 | B97: Total hochwertige BFF in IPS-Qualität | I97: =I79 -> 0
A98: 5.19.1 | B98: in % der LN | I98: =+I97/LN -> 0 | M98: =+IF(I98<X98,0,IF(I98>AH98,AI98,1+(100*I98-2))) -> 0 | P98: 2 | R98: linear | T98: =+">"&AH98*100 -> >7 | U98: % | X98: 0.02 | Y98: 1 | AA98: linear! | AH98: 0.07 | AI98: 6
A100: 6.1 | B100: 0 | C100: BFF in der Tal-/Hügelzone | G100: =+IF(B26>0,B100/B26,0) -> 0 | H100: LN in TZ/HZ | W100: =+IF(AND(B26>3,B26<10,G100<0.03),1,0)+IF(AND(B26>10,G100<0.06),1,0) -> 0
A101: 6.1.1 | B101: 0 | C101: BFF in der BZ I oder BZ II | G101: =+IF(B27>0,B101/B27,0) -> 0 | H101: LN in BZ I - II | W101: =+IF(AND(B27>3,B27<10,G101<0.03),1,0)+IF(AND(B27>10,G101<0.06),1,0) -> 0
A102: 6.1.2 | B102: 0 | C102: BFF in der BZ III oder BZ IV | G102: =+IF(B28>0,B102/B28,0) -> 0 | H102: LN BZ III - IV
B103: =+ROUND(G79-SUM(B100:B102),2) -> 0 | C103: =+IF(OR(LN=1,B103=0),"","Flächenbilanz geht nicht auf! Differenz "&B103&" ha")
A104: 7 | B104: Grossflächige BFF in IPS-Qualität
A105: 7.1 | B105: 0 | C105: Anzahl BFF-Einzelflächen über 25 a in IPS-Qualität
B106: è | C106: =+B105/LN*20 -> 0 | D106: grossflächige BFF pro 20 ha LN | M106: =+IF(C106>AH106,AI106,IF(C106>AF106,AG106,IF(C106>AD106,AE106,IF(C106>AB106,AC106,IF(C106>Z106,AA106,IF(C106>=X106,Y106,0)))))) -> 0 | O106: =+X106&"-"&Z106 -> 1-2 | P106: =+">"&Z106&"-"&AB106 -> >2-3 | Q106: =+">"&AB106&"-"&AD106 -> >3-4 | R106: =+">"&AD106&"-"&AF106 -> >4-5 | S106: =+">"&AF106&"-"&AH106 -> >5-6 | T106: =+">"&AH106 -> >6 | V106: 3 | X106: 1 | Y106: 1 | Z106: 2 | AA106: 2 | AB106: 3 | AC106: 3 | AD106: 4 | AE106: 4 | AF106: 5 | AG106: 5 | AH106: 6 | AI106: 6
B107: Leerzellen, damit gleiche Zeilenzahl wie in Talzone
A114: 8 | B114: BFF mit Strukturvielfalt
A115: 8.1 | B115: =+K76 -> 0 | C115: Total BFF mit Strukturvielfalt
B116: è | C116: =+B115/LN -> 0 | D116: der LN | M116: =+IF(C116>AB116,AC116,IF(C116>Z116,AA116,IF(C116>=X116,Y116,0))) -> 0 | O116: =+X116*100&"–"&Z116*100 -> 5–7 | P116: =+">"&Z116*100&"–"&AB116*100 -> >7–9 | Q116: =+">"&AB116*100 -> >9 | U116: % | V116: 2 | X116: 0.05 | Y116: 1 | Z116: 0.07 | AA116: 2 | AB116: 0.09 | AC116: 3
A118: 9 | B118: räumliche Verteilung der BFF
A119: 9.1 | B119: 0 | C119: Anzahl BFF von mindestens 10 a
B120: è | C120: =+B119/LN*20 -> 0 | D120: BFF auf 20 ha LN | M120: =+IF(C120>AD120,AE120,IF(C120>AB120,AC120,IF(C120>Z120,AA120,IF(C120>=X120,Y120,0)))) -> 0 | O120: =+X120&"–"&Z120 -> 3–5 | P120: =+">"&Z120&"–"&AB120 -> >5–7 | Q120: =+">"&AB120&"–"&AD120 -> >7–9 | R120: =+">"&AD120 -> >9 | V120: 3 | X120: 3 | Y120: 1 | Z120: 5 | AA120: 2 | AB120: 7 | AC120: 3 | AD120: 9 | AE120: 4
B121: Leerzellen, damit gleiche Zeilenzahl wie in Talzone
A128: Punkte Betrieb und Biodiversitätsförderung | N128: =M120+M116+M106+M98+M86+M85+M50+M43+M42 -> 0
A129: Aufwertungsmassnahmen auf Produktionsflächen
A131: offene Ackerfläche | M131: Punkte | N131: Summe | O131: 0.5 Pkt. | P131: 1 Pkt. | Q131: 1.5 Pkt. | R131: 2 Pkt. | U131: Einheit
A133: 10 | B133: Massnahmen auf Ackerflächen
A134: 10.1 | B134: 0 | C134: Kleinflächen / Patches auf Getreide, Raps, Sonnenblumen oder Mais
B135: è | C135: =+IF(offene_Ackerfläche>0,B134/offene_Ackerfläche,0) -> 0 | D135: der offenen Ackerflächen | M135: =+IF(C135>AD135,AE135,IF(C135>AB135,AC135,IF(C135>Z135,AA135,IF(C135>=X135,Y135,0)))) -> 0 | O135: =+X135*100&"–"&Z135*100 -> 3–5 | P135: =+">"&Z135*100&"–"&AB135*100 -> >5–10 | Q135: =+">"&AB135*100&"–"&AD135*100 -> >10–20 | R135: =+">"&AD135*100 -> >20 | U135: % | X135: 0.03 | Y135: 0.5 | Z135: 0.05 | AA135: 1 | AB135: 0.1 | AC135: 1.5 | AD135: 0.2 | AE135: 2
...

Sheet Hof+
A1: E Massnahmen Hof+ | D1: Punkte Hof+: | E1: =" " & Pkt_Hofplus -> 0 | F1: =+SUM(B3:C55) -> 0
B3: 0 | D3: von Hand übertragener Punktewert
A5: Nr. | B5: Grund-auflagen | C5: Mass-nahmen | D5: Massnahmenbereich / Einzelmassnahmen | E5: Mindestkriterien
B6: Falls erfüllt: "1" eintragen!
D7: Grundauflagen
A8: 1.1 | B8: 0 | D8: Verzicht Herbizide (Hofgelände inkl. Garten)
A9: 1.2 | B9: 0 | D9: zugedeckte Schächte, Dolen, Wasserstellen
A10: 1.3 | B10: 0 | D10: Ausstiegshilfen (Brunnen, Wassertröge, Kellertreppen)
D12: Massnahmen
A13: Eine grosse Vielfalt auf Ihrem Hofgelände erzielen Sie, wenn Sie Massnahmen aus jeder Rubrik (2.1, 2.2 usw.) umsetzen.
D14: Nistmöglichkeiten schaffen
A15: 2.1.1 | C15: 0 | D15: Nistkästen für Turmfalke und Schleiereule | E15: 2 Kästen an geeigneter Stelle
A16: 2.1.2 | C16: 0 | D16: Nisthilfen für Schwalben | E16: Rauchschwalbe/Mehlschwalbe: 5 Natur- oder Kunstnester
A17: 2.1.3 | C17: 0 | D17: Nisthilfen für Mauersegler | E17: 3 Nistkästen an geeigneter Stelle
A18: 2.1.4 | C18: 0 | D18: Nisthilfen für Höhlen- und Halbhöhlenbrüter | E18: 10 Nistkästen für verschiedene Arten
A19: 2.1.5 | C19: 0 | D19: Fledermauskästen | E19: 2 Kästen an geeigneter Stelle
A20: 2.1.6 | C20: 0 | D20: Nisthilfen für Wildbienen | E20: Elemente von total 1 m², Tiefe mind. 15 cm
D22: Strukturelemente | E22: keine Abfall (Altmetall, Paletten, Bauschutt, usw.)
A23: 2.2.1 | C23: 0 | D23: Holzbeigen, Bretterbeigen (z.B. 3 Rundholzster) | E23: 3 Ster (3 m³)
A24: 2.2.2 | C24: 0 | D24: Steinhaufen, Asthaufen, gestapelte Ziegel, Sandhaufen, Wurzelstöcke | E24: grosses Hofgelände: 5 Elemente à 2 m², Höhe mind. 50 cm; kleines Hofgelände 3 Elemente à 2 m², Höhe mind. 50 cm
A25: 2.2.3 | C25: 0 | D25: Trockenmauern, bewachsene Steinkörbe | E25: 5 Laufmeter; Höhe mind. 50 cm
D27: Feuchtstandorte
A28: 2.3.1 | C28: 0 | D28: Wasserstellen: Teiche, Tümpel, Pfützen (regelmässig stehendes Wasser), Gräben | E28: 6 m²
A29: 2.3.2 | C29: 0 | D29: Hofbrunnen (Quellwasser) | E29: 1 Brunnen permanent Wasser führend
D31: Ruderalstandorte und Hochstaudenfluren
A32: 2.4.1 | C32: 0 | D32: Hochstaudenfluren und Ruderalflächen | E32: grosses Hofgelände: 30 m²; kleines Hofgelände: 15 m²
A34: 2.5 | D34: Sickerfähigen, unversiegelten Belägen
A35: 2.5.1 | C35: 0 | D35: Kies, Sand, Mergel, Lehm, Kopfstein-, Bollensteinpflaster | E35: total ½ Hofgelände
D37: Begrünte und naturnahe Fassaden und Dachbedeckungen
A38: 2.6.1 | C38: 0 | D38: Wandbegrünung | E38: total 10 m²
A39: 2.6.2 | C39: 0 | D39: verwitterte Schindelfassade | E39: total 10 m²
A40: 2.6.3 | C40: 0 | D40: unverputztes Gemäuer mit Hohlräumen | E40: total 10 m²
A41: 2.6.4 | C41: 0 | D41: Fassade mit Holzverkleidung | E41: total 10 m²
A42: 2.6.5 | C42: 0 | D42: Steindach, Schindeldach, Dach mit Strangfalzziegeln | E42: total 10 m²
A43: 2.6.6 | C43: 0 | D43: begrüntes (Flach-) Dach | E43: total 20 m²
D45: Natürliche Gartenelemente auf dem Hofgelände
A46: 2.7.1 | C46: 0 | D46: alte Bäume | E46: 2 Bäume max. 20 m von Hofgelände entfernt: Stammdurchmesser mind. 30 cm
A47: 2.7.2 | C47: 0 | D47: beerentragende Sträucher | E47: 4 einheimische Sträucher
A48: 2.7.3 | C48: 0 | D48: Hecke | E48: 8 Laufmeter, bestockte Breite mind. 1 m
A49: 2.7.4 | C49: 0 | D49: Pergola | E49: mind. 10 m²
A50: 2.7.5 | C50: 0 | D50: Weidenzaun, Holzzaun | E50: 10 Laufmeter
A51: 2.7.6 | C51: 0 | D51: Weidenhaus, Weidenpavillon, Weidentunnel | E51: 6 m²
D53: Vielfältiger Bauerngarten
A54: 2.8.1 | C54: 0 | D54: Durchmischung von Nutz- und Zierpflanzen | E54: 50 m²
B56: =SUM(B8:B10) -> 0 | D56: Grundauflagen erfüllt | E56: =IF(B56=3,"", "Es müssen alle 3 Grundauflagen erfüllt sein, um Punkte zu generieren") -> Es müssen alle 3 Grundauflagen erfüllt sein, um Punkte zu generieren
C57: =SUM(C15:C54) -> 0 | D57: Massnahmen erfüllt
A59: Anrechenbare Punkte für IP-SUISSE Biodiverstitätpunktesystem | E59: =IF(B3>0,B3,IF(SUM(B8:B10)<>3,0,IF(C57<10,"0",IF(C57<14,"0.5",IF(C57<18,"1.0",IF(C57>17,1.5)))))) -> 0 | G59: =IF(OR(F11<>3,C57<10),"",IF(C57>17,"Gold",IF(C57>13,"Silber","Bronze")))
A61: © IP-Suisse & Schweizerische Vogelwarte, 9.Sept. 2025

Sheet Gemüse
A1: C : Aufwertungsmassnahmen im Gemüsebau | H1: Punkte Gemüsebau (gewichtet): | I1: =+I81 -> 0 | L1: =+SUM(B3:B75)+COUNTA(D60:F60,D64:F64,D68:F68,D72:F72,D76:F76) -> 0
B3: 0 | C3: Gemüse im Freiland (545)
B5: 0 | C5: Gemüse im geschützten Anbau ohne festes Fundament auf gewachsenem Boden (811)
A7: CI : Biodiversitätsförderflächen (BFF) & Förderung der funktionellen Biodiversität | F7: Punkte | H7: 0.5 Pkt. | I7: 1 Pkt. | J7: 1.5 Pkt. | K7: 2 Pkt. | L7: Einheit
M8: 1. Grenze | N8: 1. Wert | O8: 2. Grenze | P8: 2. Wert | Q8: 3. Grenze | R8: 3. Wert | S8: 4. Grenze | T8: 4. Wert
A9: 17.1 | B9: 0 | C9: Vielfalt an mehrjährigen BFF auf Ackerland | F9: =+IF(B9=O9,P9,IF(B9=Q9,R9,IF(B9=S9,T9,0))) -> 0 | I9: =O9 -> 2 | J9: =Q9 -> 3 | K9: =S9 -> 4 | L9: Typen | O9: 2 | P9: 1 | Q9: 3 | R9: 1.5 | S9: 4 | T9: 2
C10: auf Gemüseanbauflächen (pro BFF-Kultur mind. 10% von Flächentaotal der mehrjärigen BFF auf Ackerland auf Gemüsebauflächen (innerhalb sowie angrenzend [50 m] an Gemüseflächen)
A12: 17.2 | B12: 0 | C12: Ein- und mehrjährige Nützlingsstreifen auf/angrenzend an Gemüseparzellen | F12: =+IF(D14>S12,T12,IF(D14>Q12,R12,IF(D14>O12,P12,IF(D14>=M12,N12,0)))) -> 0 | H12: =M12*100 & "–" & O12*100 -> 2–3 | I12: =">" & O12*100 & "–" & Q12*100 -> >3–4 | J12: =">" & Q12*100 & "–" & S12*100 -> >4–5 | K12: =">" & S12*100 -> >5 | L12: % | M12: 0.02 | N12: 0.5 | O12: 0.03 | P12: 1 | Q12: 0.04 | R12: 1.5 | S12: 0.05 | T12: 2
C13: Leerzeile, damit gleiche Zeilenzahl wie in "maraîchère"
C14: % der Gemüsebaufläche (Freiland) | D14: =+IF(B12>0,B12/Gemüse_Freiland,0) -> 0
A16: 17.3 | B16: 0 | C16: Einsaat/Pflanzung von nützlingsfördernden Begleitpflanzen | F16: =+IF(D18>S16,T16,IF(D18>Q16,R16,IF(D18>O16,P16,IF(D18>=M16,N16,0)))) -> 0 | H16: =M16*100 & "–" & O16*100 -> 0.5–1.5 | I16: =">" & O16*100 & "–" & Q16*100 -> >1.5–2.5 | J16: =">" & Q16*100 & "–" & S16*100 -> >2.5–3.5 | K16: =">" & S16*100 -> >3.5 | L16: % | M16: 0.005 | N16: 0.5 | O16: 0.015 | P16: 1 | Q16: 0.025 | R16: 1.5 | S16: 0.035 | T16: 2
C17: (mind. 10 Pflanzen/Are) im Kohlanbau
C18: % der Gemüsebaufläche (Freiland) | D18: =+IF(B16>0, B16/Gemüse_Freiland,0) -> 0
A20: 17.4 | B20: 0 | C20: mit einer artenreichen/blühenden Mischung begrünte Fahrgassen | F20: =+IF(B20>S20,T20,IF(B20>Q20,R20,IF(B20>O20,P20,IF(B20>=M20,N20,0)))) -> 0 | H20: =M20*100 & "–" & O20*100 -> 10–25 | I20: =">" & O20*100 & "–" & Q20*100 -> >25–50 | J20: =">" & Q20*100 & "–" & S20*100 -> >50–90 | K20: =">" & S20*100 -> >90 | L20: % | M20: 0.1 | N20: 0.5 | O20: 0.25 | P20: 1 | Q20: 0.5 | R20: 1.5 | S20: 0.9 | T20: 2
C21: > begrünte Fahrgassen in % aller Fahrgassen auf Gemüseanbauflächen
A23: 17.5 | B23: 0 | C23: Extensive Pflege von artenreichen Randstrukturen oder Querstreifen | F23: =+IF(D26>S23,T23,IF(D26>Q23,R23,IF(D26>O23,P23,IF(D26>=M23,N23,0)))) -> 0 | H23: =M23*100 & "–" & O23*100 -> 1.5–2 | I23: =">" & O23*100 & "–" & Q23*100 -> >2–2.5 | J23: =">" & Q23*100 & "–" & S23*100 -> >2.5–3 | K23: =">" & S23*100 -> >3 | L23: % | M23: 0.015 | N23: 0.5 | O23: 0.02 | P23: 1 | Q23: 0.025 | R23: 1.5 | S23: 0.03 | T23: 2
C24: Leerzeile, damit gleiche Zeilenzahl wie in "maraîchère"
C25: Längsseite der Kulturflächen oder Querstreifen innerhalb der Kultur anrechenbar; keine Wendezonen (Mindestbreite: 3 m)
C26: % der Gemüsebaufläche (Freiland) | D26: =+IF(B23>0, B23/Gemüse_Freiland,0) -> 0
A28: 17.6 | B28: 0 | C28: Aufwertung von Flächen aus Massnahme 17.5 mit Kleinstrukturen | F28: =+IF(B28>S28,T28,IF(B28>Q28,R28,IF(B28>O28,P28,IF(B28=M28,N28,0)))) -> 0 | H28: 3 a | I28: >3–6 a | J28: >6–9 a | K28: >9 a | L28: a | M28: 0.03 | N28: 0.5 | O28: 0.03 | P28: 1 | Q28: 0.06 | R28: 1.5 | S28: 0.09 | T28: 2
C29: pro 3 Aren Randflächen müssen 2 Kleinstrukturen (KS) vorhanden sein.
C30: Wert in C6 darf nur angegeben werden, wenn die Mindestanzahl KS erfüllt ist | D30: =IF(B28>S28,S30,IF(B28>Q28,Q30,IF(B28>O28,O30,IF(B28>=M28,M30,0)))) -> 0 | E30: Mindestanzahl KS | M30: 2 | O30: 4 | Q30: 6 | S30: 8
A32: 17.7 | B32: 0 | C32: Blühende Sommerzwischenfrucht | F32: =+IF(D34>S32,T32,IF(D34>Q32,R32,IF(D34>O32,P32,IF(D34>=M32,N32,0)))) -> 0 | H32: =M32*100 & "–" & O32*100 -> 2.5–5 | I32: =">" & O32*100 & "–" & Q32*100 -> >5–7.5 | J32: =">" & Q32*100 & "–" & S32*100 -> >7.5–10 | K32: =">" & S32*100 -> >10 | L32: % | M32: 0.025 | N32: 0.5 | O32: 0.05 | P32: 1 | Q32: 0.075 | R32: 1.5 | S32: 0.1 | T32: 2
C33: mit einer Mischung mit mind. 2 Pflanzenarten (ohne Gräser), min. Standzeit: 8 Wochen, Ansaat bis 30. Juni
C34: % der Gemüsebaufläche (Freiland) | D34: =+IF(B32>0, B32/Gemüse_Freiland,0) -> 0
A36: 17.8 | B36: 0 | C36: Vielfalt an Gemüsekulturen aus verschiedenen Pflanzenfamilien (botanisch) | F36: =+IF(B36>=S36,T36,IF(B36=Q36,R36,IF(B36=O36,P36,IF(B36=M36,N36,0)))) -> 0 | H36: 5 | I36: 6 | J36: 7 | K36: > 7 | L36: Familien | M36: 5 | N36: 0.5 | O36: 6 | P36: 1 | Q36: 7 | R36: 1.5 | S36: 8 | T36: 2
C37: Leerzeile, damit gleiche Zeilenzahl wie in "maraîchère"
C38: bei ≤ 7 Familien: je mind. 8 % der Gemüsebaufläche, bzw. 4 % bei > 7 Familien (ohne Gewächshauskulturen)
A40: C II: Massnahmen in und um den gedeckten Gemüseanbau | H40: 0.5 Pkt. | I40: 1 Pkt. | J40: 1.5 Pkt. | K40: 2 Pkt. | L40: Einheit
A42: 17.9 | B42: 0 | C42: Nützlingsstreifen und/oder Nützlings fördernde Begleitpflanzen | F42: =+IF(D44>S42,T42,IF(D44>Q42,R42,IF(D44>O42,P42,IF(D44>=M42,N42,0)))) -> 0 | H42: =M42*100 & "–" & O42*100 -> 1–1.5 | I42: =">" & O42*100 & "–" & Q42*100 -> >1.5–2 | J42: =">" & Q42*100 & "–" & S42*100 -> >2–2.5 | K42: =">" & S42*100 -> >2.5 | L42: % | M42: 0.01 | N42: 0.5 | O42: 0.015 | P42: 1 | Q42: 0.02 | R42: 1.5 | S42: 0.025 | T42: 2
C43: im geschützten Anbau (unter Code 811 umsetzbar)
C44: % der geschützten Gemüsebaufläche (811) | D44: =+IF(B42>0, B42/Gemüse_geschützt,0) -> 0
A46: 17.10 | B46: 0 | C46: Anlage & extensive Pflege artenreicher Wiesenstreifen | F46: =+IF(D48>Q46,R46,IF(D48>O46,P46,IF(D48>=M46,N46,0))) -> 0 | I46: =M46*100 & "-" & O46*100 -> 5-10 | J46: =">" & O46*100 & "–" & Q46*100 -> >10–15 | K46: =">" & Q46*100 -> >15 | L46: % | M46: 0.05 | N46: 1 | O46: 0.1 | P46: 1.5 | Q46: 0.15 | R46: 2
C47: entlang der geschützten Anbauflächen (Code 811) (mind. 1 m breit und 1 a).
C48: % der geschützten Gemüsebaufläche (811) | D48: =+IF(B46>0, B46/Gemüse_geschützt,0) -> 0
A50: 17.11 | B50: 0 | C50: Aufwertung von Flächen aus Massnahme 17.10. mit Kleinstrukturen (10%) | F50: =+IF(B46>0,IF(B50/B46>=M50,1,0),0) -> 0 | I50: =_xlfn.CONCAT(">=",M50*100,"%") -> >=10% | M50: 0.1 | N50: 1
A52: C III: Ressourcen schonende Gemüseproduktion | H52: 0.5 Pkt. | I52: 1 Pkt. | J52: 1.5 Pkt. | K52: 2 Pkt. | L52: Einheit
A54: 17.12 | B54: 0 | C54: Untersaat in der Haupt-Gemüsekultur | F54: =+IF(D55>S54,T54,IF(D55>Q54,R54,IF(D55>O54,P54,IF(D55>=M54,N54,0)))) -> 0 | H54: =M54*100 & "–" & O54*100 -> 1–5 | I54: =">" & O54*100 & "–" & Q54*100 -> >5–10 | J54: =">" & Q54*100 & "–" & S54*100 -> >10–15 | K54: =">" & S54*100 -> >15 | L54: % | M54: 0.01 | N54: 0.5 | O54: 0.05 | P54: 1 | Q54: 0.1 | R54: 1.5 | S54: 0.15 | T54: 2
C55: % der Gemüsebaufläche (Freiland) | D55: =+IF(B54>0, B54/Gemüse_Freiland,0) -> 0
A57: 17.13 | B57: 0 | C57: Verzicht auf Herbizide im Gemüsebau - Bandspritzung und Spotspraying | F57: =+IF(D59>S57,T57,IF(D59>Q57,R57,IF(D59>O57,P57,IF(D59>=M57,N57,0)))) -> 0 | H57: =M57*100 & "–" & O57*100 -> 1–20 | I57: =">" & O57*100 & "–" & Q57*100 -> >20–60 | J57: =">" & Q57*100 & "–" & S57*100 -> >60–80 | K57: =">" & S57*100 -> >80 | L57: % | M57: 0.01 | N57: 0.5 | O57: 0.2 | P57: 1 | Q57: 0.6 | R57: 1.5 | S57: 0.8 | T57: 2
C58: erlaubt (Flächen bezogen)
C59: % der Gemüsebaufläche (Freiland) | D59: =+IF(B57>0, B57/Gemüse_Freiland,0) -> 0
C60: welche Kulturen?
A62: 17.14 | B62: 0 | C62: Vollständiger Verzicht auf Herbizide im Gemüsebau (Flächen bezogen) | F62: =+IF(D63>S62,T62,IF(D63>Q62,R62,IF(D63>O62,P62,IF(D63>=M62,N62,0)))) -> 0 | H62: =M62*100 & "–" & O62*100 -> 5–10 | I62: =">" & O62*100 & "–" & Q62*100 -> >10–30 | J62: =">" & Q62*100 & "–" & S62*100 -> >30–60 | K62: =">" & S62*100 -> >60 | L62: % | M62: 0.05 | N62: 0.5 | O62: 0.1 | P62: 1 | Q62: 0.3 | R62: 1.5 | S62: 0.6 | T62: 2
C63: % der Gemüsebaufläche (Freiland) | D63: =+IF(B62>0, B62/Gemüse_Freiland,0) -> 0
C64: welche Kulturen?
A66: 17.15 | B66: 0 | C66: Verzicht auf chemisch-synthetische Insektiziden und Akariziden | F66: =+IF(D67>S66,T66,IF(D67>Q66,R66,IF(D67>O66,P66,IF(D67>=M66,N66,0)))) -> 0 | H66: =M66*100 & "–" & O66*100 -> 5–10 | I66: =">" & O66*100 & "–" & Q66*100 -> >10–30 | J66: =">" & Q66*100 & "–" & S66*100 -> >30–60 | K66: =">" & S66*100 -> >60 | L66: % | M66: 0.05 | N66: 0.5 | O66: 0.1 | P66: 1 | Q66: 0.3 | R66: 1.5 | S66: 0.6 | T66: 2
C67: % der Gemüsebaufläche (Freiland) | D67: =+IF(B66>0, B66/Gemüse_Freiland,0) -> 0
C68: welche Kulturen?
A70: 17.16 | B70: 0 | C70: Vollständiger Verzicht auf Insektizide und Akarizide (Flächen bezogen) | F70: =+IF(D71>S70,T70,IF(D71>Q70,R70,IF(D71>O70,P70,IF(D71>=M70,N70,0)))) -> 0 | H70: =M70*100 & "–" & O70*100 -> 1–5 | I70: =">" & O70*100 & "–" & Q70*100 -> >5–10 | J70: =">" & Q70*100 & "–" & S70*100 -> >10–15 | K70: =">" & S70*100 -> >15 | L70: % | M70: 0.01 | N70: 0.5 | O70: 0.05 | P70: 1 | Q70: 0.1 | R70: 1.5 | S70: 0.15 | T70: 2
C71: % der Gemüsebaufläche (Freiland) | D71: =+IF(B70>0, B70/Gemüse_Freiland,0) -> 0
C72: welche Kulturen?
A74: 17.17 | B74: 0 | C74: Vollständiger Verzicht auf Fungizide (Flächen bezogen) | F74: =+IF(D75>S74,T74,IF(D75>Q74,R74,IF(D75>O74,P74,IF(D75>=M74,N74,0)))) -> 0 | H74: =M74*100 & "–" & O74*100 -> 5–10 | I74: =">" & O74*100 & "–" & Q74*100 -> >10–15 | J74: =">" & Q74*100 & "–" & S74*100 -> >15–20 | K74: =">" & S74*100 -> >20 | L74: % | M74: 0.05 | N74: 0.5 | O74: 0.1 | P74: 1 | Q74: 0.15 | R74: 1.5 | S74: 0.2 | T74: 2
C75: % der Gemüsebaufläche (Freiland) | D75: =+IF(B74>0, B74/Gemüse_Freiland,0) -> 0
C76: welche Kulturen?
A78: Teilsumme Aufwertungsmassnahmen Gemüsebau | F78: =SUM(F9:F76) -> 0
C79: Anteil Gemüseanbaufläche an LN | D79: =(Gemüse_Freiland+Gemüse_geschützt)/data!LN -> 0
A81: Punkte Gemüsebau (mit dem Anteil Gemüsebaufläche an der LN gewichtet) | G81: =F78*D79 -> 0
A83: © IP-Suisse & Schweizerische Vogelwarte, 18.Sept. 2025

Sheet Reben
A1: D: Aufwertungsmassnahmen im Rebbau | D1: Punkte Rebbau (gewichtet): | E1: =+E30 -> 0 | G1: =+SUM(B3:B24) -> 0 | H1: 1. Grenze | I1: 1. Wert | J1: 2. Grenze | K1: 2. Wert | L1: 3. Grenze | M1: 3. Wert | N1: 4. Grenze | O1: 4. Wert
D2: Anteil | E2: Punkte
B3: 0 | C3: Reben (701, 717, 737)
A5: 18.1 | B5: 0 | C5: Verzicht auf Herbizide in der Rebfläche gem. DZV
C6: % der Rebfläche | D6: =+IF(Reben=0, 0,B5/[0]!Reben) -> 0 | E6: =+IF(D6>N6,O6,IF(D6>L6,M6,IF(D6>J6,K6,IF(D6>H6,I6,0)))) -> 0 | G6: =+">"&H6*100&"–"& J6*100&"%"&" = "&I6&" Pkt.; >"&J6*100&"–"&L6*100&"%"&" = "&K6&" Pkt." -> >20–40% = 1 Pkt.; >40–60% = 1.5 Pkt. | H6: 0.2 | I6: 1 | J6: 0.4 | K6: 1.5 | L6: 0.6 | M6: 2 | N6: 0.8 | O6: 2.5
G7: =+">"&L6*100&"–"&N6*100&"%"&" = "&M6&" Pkt.; >"&N6*100&"%"&" = "&O6&" Pkt." -> >60–80% = 2 Pkt.; >80% = 2.5 Pkt.
A9: 18.2 | B9: 0 | C9: Angemessene Bedeckung des Bodens im Rebbau
C10: gemäss DZV
C11: % der Rebfläche | D11: =+IF(Reben=0, 0,B9/[0]!Reben) -> 0 | E11: =+IF(D11=H11,I11,0) -> 0 | G11: =+""&H11*100&"%"&" = "&I11&" Pkt." -> 100% = 1 Pkt. | H11: 1 | I11: 1
A13: 18.3 | B13: 0 | C13: Verzicht auf Insektizide, Akarizide und Fungizide nach
C14: der Blüte in der Rebfläche gem. DZV | G14: =+">"&H15*100&"–"&J15*100&"%"&" = "&I15&" Pkt.; >"&J15*100&"–"&L15*100&"%"&" = "&K15&" Pkt." -> >20–40% = 1 Pkt.; >40–60% = 1.5 Pkt.
C15: % der Rebfläche | D15: =+IF(Reben=0, 0,B13/[0]!Reben) -> 0 | E15: =+IF(D15>N15,O15,IF(D15>L15,M15,IF(D15>J15,K15,IF(D15>H15,I15,0)))) -> 0 | G15: =+">"&L15*100&"–"&N15*100&"%"&" = "&M15&" Pkt.; >"&N15*100&"%"&" = "&O15&" Pkt." -> >60–80% = 2 Pkt.; >80% = 2.5 Pkt. | H15: 0.2 | I15: 1 | J15: 0.4 | K15: 1.5 | L15: 0.6 | M15: 2 | N15: 0.8 | O15: 2.5
A17: 18.4 | B17: 0 | C17: Bewirtschaftung der Rebfläche mit Hilfsmitteln nach
C18: der biologischen Landwirtschaft gem. DZV | G18: =+">"&H19*100&"–"&J19*100&"%"&" = "&I19&" Pkt.; >"&J19*100&"–"&L19*100&"%"&" = "&K19&" Pkt." -> >20–40% = 1.5 Pkt.; >40–60% = 2 Pkt.
C19: % der Rebfläche | D19: =+IF(Reben=0, 0,B17/[0]!Reben) -> 0 | E19: =+IF(D19>N19,O19,IF(D19>L19,M19,IF(D19>J19,K19,IF(D19>H19,I19,0)))) -> 0 | G19: =+">"&L19*100&"–"&N19*100&"%"&" = "&M19&" Pkt.; >"&N19*100&"%"&" = "&O19&" Pkt." -> >60–80% = 2.5 Pkt.; >80% = 3 Pkt. | H19: 0.2 | I19: 1.5 | J19: 0.4 | K19: 2 | L19: 0.6 | M19: 2.5 | N19: 0.8 | O19: 3
A21: 18.5 | B21: 0 | C21: Robuste Rebsorten | G21: =+">"&H22*100&"–"&J22*100&"%"&" = "&I22&" Pkt.; >"&J22*100&"–"&L22*100&"%"&" = "&K22&" Pkt." -> >2–5% = 0.5 Pkt.; >5–10% = 1 Pkt.
C22: % der Rebfläche | D22: =+IF(Reben=0, 0,B21/[0]!Reben) -> 0 | E22: =+IF(D22>L22,M22,IF(D22>J22,K22,IF(D22>H22,I22,0))) -> 0 | G22: =+">"&L22*100&"%"&" = "&M22&" Pkt." -> >10% = 2 Pkt. | H22: 0.02 | I22: 0.5 | J22: 0.05 | K22: 1 | L22: 0.1 | M22: 2
A24: 18.6 | B24: 0 | C24: Rebflächen mit unbedecktem Boden auf ⅓ bis ⅔ der Fläche | G24: =+">"&H25*100&"–"&J25*100&"%"&" = "&I25&" Pkt.; >"&J25*100&"–"&L25*100&"%"&" = "&K25&" Pkt." -> >20–40% = 1 Pkt.; >40–60% = 2 Pkt.
C25: % der Rebfläche | D25: =+IF(Reben=0, 0,B24/[0]!Reben) -> 0 | E25: =+IF(D25>N25,O25,IF(D25>L25,M25,IF(D25>J25,K25,IF(D25>H25,I25,0)))) -> 0 | G25: =+">"&L25*100&"–"&N25*100&"%"&" = "&M25&" Pkt.; >"&N25*100&"%"&" = "&O25&" Pkt." -> >60–80% = 3 Pkt.; >80% = 4 Pkt. | H25: 0.2 | I25: 1 | J25: 0.4 | K25: 2 | L25: 0.6 | M25: 3 | N25: 0.8 | O25: 4
A27: Teilsumme Aufwertungsmassnahmen auf Rebflächen | E27: =E6+E11+E15+E19+E22+E25 -> 0
B29: =Reben/data!LN -> 0 | C29: Reben an der LN
A30: Punkte Rebbau (mit Anteil Rebfläche gewichtet) | E30: =+E27*B29 -> 0
A32: © IP-Suisse & Schweizerische Vogelwarte, 22.Sept. 2025

Sheet data
B1: Tal | C1: Berg | D1: Hof+ D | E1: Gemüse | F1: Reben | G1: plaine | H1: montagne | I1: ferme+ | J1: maraîchère | K1: viticulture | L1: Blätter | M1: Daten | N1: feuilles | O1: dates
A4: Kontrollfeld (muss überall WAHR sein) | B4: =+Talzone!U1=0 -> TRUE | C4: =+Bergzone!U1=0 -> TRUE | D4: =+'Hof+'!F1=0 -> TRUE | E4: =+Gemüse!L1=0 -> TRUE | F4: =+Reben!G1=0 -> TRUE | G4: =+#REF!=0 -> #REF! | H4: =+#REF!=0 -> #REF! | I4: =+#REF!=0 -> #REF! | J4: =+#REF!=0 -> #REF! | K4: =+#REF!=0 -> #REF! | L4: =COUNTIF(B4:F4, FALSE) -> 0 | N4: =COUNTIF(G4:K4, FALSE) -> 0
A6: Warnung | L6: =COUNTIF(L8:L104,">1") -> 0 | N6: =COUNTIF(N8:N104,">1") -> 0
A7: Warnung F
A9: 1.1 LN | B9: =Talzone!LN -> 1 | C9: =Bergzone!LN -> 1 | L9: =COUNTIF(B9:F9,">1") -> 0 | M9: =IF(MAX(B9:F9)>0,MAX(B9:F9),1) -> 1
A10: 1.1.F SAU (LN) | G10: =[0]!LN -> #REF! | H10: =[0]!LN -> #REF! | N10: =COUNTIF(G10:K10,">1") -> 0 | O10: =MAX(G10:K10) -> #REF!
A12: 1.1.6 Spezialkulturen | B12: =+Talzone!Spezialkulturen -> 0 | C12: =+Bergzone!Spezialkulturen -> 0 | L12: =COUNTIF(B12:F12,">0") -> 0 | M12: =MAX(B12:K12) -> 0
A13: 1.1.6 Cultures spéciales | G13: =+[0]!Spezialkulturen -> #REF! | H13: =+[0]!Spezialkulturen -> #REF! | N13: =COUNTIF(G13:K13,">0") -> 0 | O13: =MAX(G13:K13) -> #REF!
A104: ************************************
