Workbook
Name Ackerfläche: montagne!$C$17
Name Ackerfläche: plaine!$C$17
Name avertissement: data!$N$6
Name DGL: montagne!$B$14
Name DGL: plaine!$B$14
Name DGL_Streue: montagne!$D$19
Name DGL_Streue: plaine!$D$19
Name DGVE: montagne!$B$31
Name DGVE: plaine!#REF!
Name Extensivweide: montagne!$G$60
Name Extensivweide: plaine!$G$60
Name Gemüse_Freiland: maraîchère!$B$3
Name Gemüse_geschützt: maraîchère!$B$5
Name intensiv_Grünland_u_Kunstwiese: montagne!$B$14-montagne!$G$94+montagne!$B$16
Name intensiv_Grünland_u_Kunstwiese: plaine!$B$14-plaine!$G$94+plaine!$B$16
Name intensiv_Grünland_u_Kunstwiese: #REF!-#REF!+#REF!
Name Kunstwiesen_Tal: #REF!
Name LN: data!$M$9
Name LN: 'ferme+'!$B$13
Name LN: montagne!$B$13
Name LN: plaine!$B$13
Name LN: #REF!
Name LNB: #REF!
Name Nutzungsparzellen: montagne!$B$40
Name Nutzungsparzellen: plaine!$B$40
Name Nutzungsparzellen: #REF!
Name öAF_mit_Bäumen: #REF!
Name öAF_ohne_Bäume: montagne!$G$76
Name öAF_ohne_Bäume: plaine!$G$76
Name öAF_ohne_Bäume: #REF!
Name offene_Ackerfläche: montagne!$B$15
Name offene_Ackerfläche: plaine!$B$15
Name offene_Ackerfläche: #REF!
Name Pkt_Hofplus: 'ferme+'!$E$59
Name Pkt_Hofplus: #REF!
Name Reben: viticulture!$B$3
Name Reben: #REF!
Name SAU: data!$O$10
Name SAU: plaine!$B$13
Name Spezialkulturen: data!$M$12
Name Spezialkulturen: montagne!$B$22
Name Spezialkulturen: plaine!$B$22
Name Spezialkulturen: #REF!
Name Streuefläche: montagne!$G$69
Name Streuefläche: plaine!$G$69
Name Streuefläche: #REF!
Name übrige_Fläche: #REF!
Name Warnung: data!$L$6

Sheet plaine
A1: Zone de plaine (incl. collines) | K1: Points totaux: | M1: =+N232 -> 0 | U1: =+IF(LN>1,LN) + SUM(B14:B16) + SUM(B27:B28) + B31 + IF(Nutzungsparzellen>1,Nutzungsparzellen) + B50 + SUM(F58:M73) + SUM(B101:B172) + SUM(B176:B193) + SUM(G199:G202) + SUM(K199:K202) + SUM(B205:B212) + SUM(M217:M223) + IF(B205,1,0) -> 0 | V1: Zielpunkte | W1: Grundbedingung | X1: 1. Grenze | Y1: 1. Wert | Z1: 2. Grenze | AA1: 2. Wert | AB1: 3. Grenze | AC1: 3. Wert | AD1: 4. Grenze | AE1: 4. Wert | AF1: 5. Grenze | AG1: 5. Wert | AH1: 6. Grenze | AI1: 6. Wert
A4: Promotion d'une agriculture durable (biodiversité et protection des ressources) sur les exploitations agricoles | U4: version 2026 – 2.1
A6: Questionnaire pour les exploitations de plaine (zone de plaine et des collines) | U6: Version 2010/1d
A8: champ jaune: à remplir; en gras: les valeurs cibles
M9: =IF(avertissement>0,"ATTENTION: Données réparties sur plusieurs feuilles - entraîne des résultats erronés","")
A10: A. Indications de l'exploitation
A12: 1 | B12: Taille de l'exploitation | O12: Nom, Prénom:
A13: 1.1 | B13: 1 | C13: surface agricole utile (SAU), dont: | K13: % de la SAU :
A14: 1.1.1 | B14: 0 | C14: prairies permanentes (PP) | K14: =+DGL/LN -> 0 | O14: Adresse:
A15: 1.1.2 | B15: 0 | C15: terres ouvertes (TO) | K15: =+offene_Ackerfläche/LN -> 0
A16: 1.1.3 | B16: 0 | C16: prairies artificielles (PA) | K16: =+B16/LN -> 0 | M16: =MAX(SUM(B14:B16),1) -> 1 | O16: NP: | R16: Lieu:
A17: 1.1.4 | B17: è | C17: =+B16+offene_Ackerfläche -> 0 | D17: terre assolée (TA) (total) | K17: =+Ackerfläche/LN -> 0
A18: 1.1.5 | B18: =+LN-SUM(B14:B16) -> 1 | C18: autres surfaces (surfaces à litière, cultures pérennes etc.)
D19: =+DGL+Streuefläche+G68 -> 0 | E19: Grünland_plus_Streueland
B20: Cultures spéciales
B21: =+LN -> 1 | C21: surface agricole utile (SAU), dont:
A22: 1.1.6 | B22: 0 | C22: Cultures spéciales (toutes les codes)
A23: 1.1.6.1 | B23: =+LN-Spezialkulturen -> 1 | C23: SAU sans cultures spéciales
B25: Zones
A26: 1.2 | B26: =+LN-B27-B28 -> 1 | C26: SAU en zone de plaine - des collines | K26: =+B26/LN -> 1 | O26: N° d'exploitation: | S26: N° IPS:
A27: 1.2.1 | B27: 0 | C27: SAU en zone de montagne I - II | K27: =+B27/LN -> 0
A28: 1.2.2 | B28: 0 | C28: SAU en zone de montagne III - IV | K28: =+B28/LN -> 0 | O28: Tel.
B29: =+IF(B28+B27>B26,"exploitation en zone de motagne: remplissez la questionnaire 'motagne' s.v.p.","")
B30: Unité gros bétail | O30: eMail:
A31: 2 | B31: 0 | C31: UGBF totaux è | E31: =+B31/LN -> 0 | F31: UGBF/ha
A33: B. Biodiversité | M33: Points | O33: 1 pt | P33: 2 pts | Q33: 3 pts | U33: Unité
B35: Viehbesatz
A36: 2 | B36: 0 | C36: DGVE total
C37: è | D37: =+B36/B13 -> 0 | E37: DGVE/ha | M37: =+IF(D37<AD37,AE37,IF(D37<AB37,AC37,IF(D37<=Z37,AA37,IF(D37<=X37,Y37,)))) -> 3 | O37: =+">"&Z37&"-"&X37 -> >1.3-1.6 | P37: =+AB37&"-"&Z37 -> 1-1.3 | Q37: =+AB37&"-"&AD37 -> 1- | R37: =+"<"&AD37 -> < | U37: DGVE/ha: | X37: 1.6 | Y37: 1 | Z37: 1.3 | AA37: 2 | AB37: 1 | AC37: 3
B39: Utilisation des parcelles
A40: 3 | B40: 1 | C40: nombre d'unité d'utilisation (sans les SPB)
B41: è | C41: =(LN-öAF_ohne_Bäume)/(Nutzungsparzellen) -> 1 | D41: taille moyenne | M41: =IF(Nutzungsparzellen=1, 0, IF(C41<AB41,AC41,IF(C41<Z41,AA41,IF(C41<=X41,Y41,)))) -> 0 | O41: =Z41&"–"&X41 -> 1.3–1.6 | P41: =+AB41&"–<"&Z41 -> 1–<1.3 | Q41: =+"<"&AB41 -> <1 | U41: moyenne ha | V41: 2 | X41: 1.6 | Y41: 1 | Z41: 1.3 | AA41: 2 | AB41: 1 | AC41: 3
B45: Type de production
B46: quel type de production représente au min. 8% de la SAU de l'exploitation?
B47: FALSE | E47: FALSE | I47: FALSE
B48: FALSE | E48: FALSE | I48: FALSE
B49: FALSE | E49: FALSE | I49: FALSE
A50: 4 | B50: =COUNTIF(A47:J49,TRUE) -> 0 | C50: types d'utilisation | M50: =IF(B50>AB50,AC50,IF(B50>Z50,AA50,IF(B50>=X50,Y50,0))) -> 0 | O50: =+X50&"–"&Z50 -> 1–2 | P50: =+Z50+1&"–"&AB50 -> 3–5 | Q50: =+">="&AB50+1 -> >=6 | U50: Type d'utilisation | V50: 2 | X50: 1 | Y50: 1 | Z50: 2 | AA50: 2 | AB50: 5 | AC50: 3 | AD50: 7
A52: Surfaces de promotion de la biodiversité | K52: Points | N52: Total | O52: 1 pt | P52: 2 pts | Q52: 3 pts | R52: 4 pts | S52: 5 pts | T52: 6 pts | U52: Unité
A54: 5 | B54: Surfaces de promotion de la biodiversité (SPB)
B55: Type de SPB | G55: annoncées | I55: avec | K55: avec
I56: qualité OQE | K56: diversité des structures
A58: 5.1 | B58: prairie extensive (611) | G58: 0 | I58: 0 | K58: 0 | M58: =IF(SUM(G58:G60, G69)>DGL,"la surface des SPB consacrée aux prairies ne doit pas dépasser les prairies permanentes","")
A59: 5.2 | B59: prairie peu intensive (612) | G59: 0 | I59: 0 | K59: 0
A60: 5.3 | B60: pâturage extensif (617) ou boisé (618, 625) | G60: 0 | I60: 0 | K60: 0
A61: 5.4 | B61: jachère florale (556) | G61: 0 | I61: =G61 -> 0 | K61: =G61 -> 0
A62: 5.5 | B62: jachère tournante (557) | G62: 0 | I62: =G62 -> 0 | K62: =G62 -> 0
A63: 5.6 | B63: ourlet sur terres assolées (559) | G63: 0 | I63: =G63 -> 0 | K63: =G63 -> 0
A64: 5.7 | B64: bande culturale extensive | G64: 0 | I64: =G64 -> 0
A65: 5.8 | B65: bandes fleuries p. pollinisateurs (572) | G65: 0
B66: dont pluriannuelles | I66: 0 | K66: =+G66 -> 0
A67: 5.8.1 | B67: Bandes semées pour organismes utiles en cultures pérennes et ligneux | G67: 0
A68: 5.9 | B68: haie, bosquet, berge boisée (582, 585) | G68: 0 | I68: 0 | K68: 0
A69: 5.10 | B69: surfaces à litière (851) | G69: 0 | I69: =G69 -> 0 | K69: 0
A70: 5.11 | B70: prairies riveraines (835) | G70: 0 | K70: 0
A71: 5.12 | B71: Surfaces viticoles présentant une biodiversité naturelle (717) | G71: 0 | I71: 0 | K71: 0
A72: 5.13 | B72: autres types (904, 905) | G72: 0
A73: 5.14 | B73: arbres comme SPB (921, 924) | G73: 0 | I73: 0
B74: è | C74: surface des arbres | G74: =+G73*0.01 -> 0 | I74: =+I73*0.01 -> 0
A76: 5.15 | B76: total SPB sans les arbres | G76: =+SUM(G58:G65, G68:G72) + (G67*0.05) -> 0 | I76: =SUM(I58:I71) -> 0 | K76: =SUM(K58:K72) -> 0
A77: 5.15.1 | B77: en % de la SAU | G77: =+G76/LN -> 0 | W77: =+IF(G77<=0.056,1,0) -> 1
A79: 5.16 | B79: total SPB avec les arbres | G79: =+öAF_ohne_Bäume+G74 -> 0 | I79: =I76+I74 -> 0 | W79: =+IF(G76/LN<0.072,1,0) -> 1
B81: =LN-Spezialkulturen -> 1 | C81: SAU sans cultures spéciales à 9 % SPB
B82: =Spezialkulturen -> 0 | C82: Cultures spéciales à 5 % SPB
B83: Proportion minimale SPB | G83: =(Spezialkulturen*0.05 + (LN-Spezialkulturen)*0.09)/LN -> 0.09
A84: 5.16.1 | B84: en % de la SAU | G84: =+G79/LN -> 0 | M84: =+IF(G84>AH84,AI84,IF(G84>AF84,AG84,IF(G84>AD84,AE84,IF(G84>AB84,AC84,IF(G84>Z84,AA84,IF(G84>=X84,Y84,0)))))) -> 0 | O84: =+X84*100&"–"&Z84*100 -> 7–9 | P84: =+">"&Z84*100&"–"&AB84*100 -> >9–12 | Q84: =+">"&AB84*100&"–"&AD84*100 -> >12–15 | R84: =+">"&AD84*100&"–"&AF84*100 -> >15–18 | S84: =+">"&AF84*100&"–"&AH84*100 -> >18–21 | T84: =+">"&AH84*100 -> >21 | U84: % | V84: 2 | X84: 0.07 | Y84: 1 | Z84: 0.09 | AA84: 2 | AB84: 0.12 | AC84: 3 | AD84: 0.15 | AE84: 4 | AF84: 0.18 | AG84: 5 | AH84: 0.21 | AI84: 6
C87: =+IF(AND(G84<G83, M1<22), "Au moins " &G83*100 &"% de SPB ou 22 points de biodiversité doivent être présents sur la SAU pour remplir les conditions du label!","") -> Au moins 9% de SPB ou 22 points de biodiversité doivent être présents sur la SAU pour remplir les conditions du label!
A88: 5.17 | B88: SPB sur terres assolées (OPD) | G88: =+G63+G64+G65+G67+G68 + IF(offene_Ackerfläche>=3,MIN(Ackerfläche*0.0175,G74),0) -> 0
A89: 5.17.1 | B89: % des terres assolées | G89: =+IF(Ackerfläche>0,G88/Ackerfläche,0) -> 0 | W89: =+IF(Ackerfläche<=3,0,IF(G89>=0.03,0,1)) -> 0
A91: 5.17.2 | B91: SPB sur terres assolées en qualitée IPS | I91: =+G61+G62+G63+G64+I66 -> 0
A92: 5.17.3 | B92: % des terres assolées | I92: =+IF(Ackerfläche>0,I91/Ackerfläche,0) -> 0
A94: 5.18 | B94: SPB sur prairies permanentes/s. à lit. | G94: =+G58+G59+G60+G68+G69+G70 -> 0 | I94: =+SUM(I58:K60)+SUM(I68:K69) -> 0
A95: 5.18.1 | B95: % sur prairies permanentes/s. à lit. | G95: =+IF(DGL_Streue>0,G94/DGL_Streue,0) -> 0 | I95: =+IF(DGL_Streue>0,I94/DGL_Streue,0) -> 0 | W95: =+IF(DGL<=3,0,IF(G95>=0.09,,1)) -> 0
A97: 5.19 | B97: surface totale des SPB qualité supérieure en qualité IPS | I97: =I79 -> 0
A98: 5.19.1 | B98: en % de la SAU | I98: =+I97/LN -> 0 | M98: =+IF(I98<X98,0,IF(I98>AH98,AI98,1+(100*I98-2))) -> 0 | P98: 2 | R98: linear | T98: =+">"&AH98*100 -> >7 | U98: % | X98: 0.02 | Y98: 1 | AA98: linear! | AH98: 0.07 | AI98: 6
A100: 6.1 | B100: =+G79-B101-B102 -> 0 | C100: SPB en zone de plaine / des collines
A101: 6.1.1 | B101: 0 | C101: SPB en zone de montagne I - II
A102: 6.1.2 | B102: 0 | C102: SPB en zone de montagne III - IV
A104: 7 | B104: Nombre de SPB de grande taille, avec qualité
A105: 7.1 | B105: 0 | C105: nombre de SPB > 25a sur terres assolées
B106: è | C106: =+IF(Ackerfläche>0,B105/Ackerfläche*20,0) -> 0 | D106: SPB de grande taille par 20 ha de terres assolées
B107: è | D107: points partiels sur les terres assolées (=0% de la SAU) | M107: =+IF(C106>AF107,AG107,IF(C106>AD107,AE107,IF(C106>AB107,AC107,IF(C106>Z107,AA107,IF(C106>=X107,Y107,0))))) -> 0 | P107: =+X107&"–"&Z107 -> 1–2 | Q107: =+">"&Z107&"–"&AB107 -> >2–3 | R107: =+">"&AB107&"–"&AD107 -> >3–4 | S107: =+">"&AD107&"–"&AF107 -> >4–5 | T107: =+">"&AF107 -> >5 | U107: par 20 ha | X107: 1 | Y107: 2 | Z107: 2 | AA107: 3 | AB107: 3 | AC107: 4 | AD107: 4 | AE107: 5 | AF107: 5 | AG107: 6
B108: è | D108: points partiels par rapport à la SAU | M108: =+M107*Ackerfläche/LN -> 0
A109: 7.2 | B109: 0 | C109: nombre de SPB > 25a avec qualité IPS sur prairies/pâturages ext. ...
B110: è | C110: =+IF(DGL_Streue>0,B109/DGL_Streue*20,0) -> 0 | D110: SPB Qualité IPS de grande taille par 20 ha
B111: è | D111: =+"points partiels sur les prairies perm. y c. à litière (=" & +ROUND(DGL/LN*100,0) &"% de la SAU)" -> points partiels sur les prairies perm. y c. à litière (=0% de la SAU) | M111: =+IF(C110>AF111,AG111,IF(C110>AD111,AE111,IF(C110>AB111,AC111,IF(C110>Z111,AA111,IF(C110>=X111,Y111,0))))) -> 0 | P111: =+X111&"–"&Z111 -> 2–3 | Q111: =+">"&Z111&"–"&AB111 -> >3–4 | R111: =+">"&AB111&"–"&AD111 -> >4–5 | S111: =+">"&AD111&"–"&AF111 -> >5–6 | T111: =+">"&AF111 -> >6 | U111: par 20 ha | X111: 2 | Y111: 2 | Z111: 3 | AA111: 3 | AB111: 4 | AC111: 4 | AD111: 5 | AE111: 5 | AF111: 6 | AG111: 6
B112: è | D112: points partiels par rapport à la SAU | M112: =+M111*DGL_Streue/LN -> 0 | V112: 3
A114: 8 | B114: SPB avec diversité des structures
A115: 8.1 | B115: =+K76 -> 0 | C115: total des surfaces SPB avec diversité des structures
B116: è | C116: =+B115/LN -> 0 | D116: de la SAU | M116: =+IF(C116>AB116,AC116,IF(C116>Z116,AA116,IF(C116>=X116,Y116,0))) -> 0 | O116: =+X116*100&"–"&Z116*100 -> 4–5 | P116: =+">"&Z116*100&"–"&AB116*100 -> >5–7 | Q116: =+">"&AB116*100 -> >7 | U116: % | V116: 2 | X116: 0.04 | Y116: 1 | Z116: 0.05 | AA116: 2 | AB116: 0.07 | AC116: 3
A118: 9 | B118: Répartition spatiale des SPB
A119: 9.1 | B119: 0 | C119: nombre de SPB de plus de 10 ares des types jachères florales ou tournantes, ourlet sur terres assolées ou bande culturale extensive
B120: è | C120: =+IF(Ackerfläche>0,B119/Ackerfläche*20,0) -> 0 | D120: SPB par 20ha de terres assolées
B121: è | D121: =+"points partiels sur les terres assolées (=" & +ROUND(Ackerfläche/LN*100,0) &"% de la SAU)" -> points partiels sur les terres assolées (=0% de la SAU) | M121: =+IF(C120>AD121,AE121,IF(C120>AB121,AC121,IF(C120>Z121,AA121,IF(C120>=X121,Y121,0)))) -> 0 | O121: =+X121&"–"&Z121 -> 1.5–3 | P121: =+">"&Z121&"–"&AB121 -> >3–4.5 | Q121: =+">"&AB121&"–"&AD121 -> >4.5–6 | R121: =+">"&AD121 -> >6 | U121: nombre | V121: 3 | X121: 1.5 | Y121: 1 | Z121: 3 | AA121: 2 | AB121: 4.5 | AC121: 3 | AD121: 6 | AE121: 4
B122: è | D122: points partiels par rapport à la SAU | M122: =+M121*Ackerfläche/LN -> 0
A123: 9.2 | B123: 0 | C123: nombre de SPB de plus de 10 ares des types prairies/pâturages extensifs/peu extensifs, haies ou surfaces à litière
B124: è | C124: =+IF(DGL_Streue,B123/DGL_Streue*20,0) -> 0 | D124: SPB par 20 ha de prairie permanente et surface à litière
B125: è | D125: =+"points partiels sur les prairies perm. et les lit. (=" & +ROUND(DGL/LN*100,0) &"% de la SAU)" -> points partiels sur les prairies perm. et les lit. (=0% de la SAU) | M125: =+IF(C124>AD125,AE125,IF(C124>AB125,AC125,IF(C124>Z125,AA125,IF(C124>=X125,Y125,0)))) -> 0 | O125: =+X125&"–"&Z125 -> 3–5 | P125: =+">"&Z125&"–"&AB125 -> >5–7 | Q125: =+">"&AB125&"–"&AD125 -> >7–9 | R125: =+">"&AD125 -> >9 | U125: nombre | X125: 3 | Y125: 1 | Z125: 5 | AA125: 2 | AB125: 7 | AC125: 3 | AD125: 9 | AE125: 4
B126: è | D126: points partiels par rapport à la SAU | M126: =+M125*DGL_Streue/LN -> 0
A128: Points exploitation et surfaces de promotion de la biodiversité | N128: =M126+M122+M116+M112+M108+M98+M84+M50+M41 -> 0
...

Sheet montagne
A1: Zone de montagne (zone montagne I-IV) | K1: Points totaux: | M1: =+N232 -> 0 | U1: =+IF(LN<>1,LN) + SUM(B14:B16) + SUM(B27:B28) + B31 + IF(Nutzungsparzellen>1,Nutzungsparzellen) + B50 + SUM(F58:L73) + SUM(B100:B102) + SUM(B105) + SUM(B119:B171) + SUM(B176:B180) + SUM(B193:B218) + IF(B205,1,0) -> 0 | V1: Zielpunkte | W1: Grundbedingung | X1: 1. Grenze | Y1: 1. Wert | Z1: 2. Grenze | AA1: 2. Wert | AB1: 3. Grenze | AC1: 3. Wert | AD1: 4. Grenze | AE1: 4. Wert | AF1: 5. Grenze | AG1: 5. Wert | AH1: 6. Grenze | AI1: 6. Wert
A4: Promotion d'une agriculture durable (biodiversité et protection des ressources) sur les exploitations agricoles | U4: version 2026 – 2.1
A6: Questionnaire pour les exploitations en zone de montagne (zone de montagne I-IV) | U6: Version 2010/1
A8: champ jaune: à remplir; en gras: les valeurs cibles
M9: =IF(avertissement>0,"ATTENTION: Données réparties sur plusieurs feuilles - entraîne des résultats erronés","")
A10: A. Indication de l'exploitation
A12: 1 | B12: Taille de l'exploitation | O12: Nom, Prénom:
A13: 1.1 | B13: 1 | C13: surface agricole utile (SAU), dont: | I13: % de la SAU:
A14: 1.1.1 | B14: 0 | C14: prairies permanentes (PP) | I14: =+DGL/LN -> 0 | O14: Adresse:
A15: 1.1.2 | B15: 0 | C15: terres ouvertes (TO) | I15: =+offene_Ackerfläche/LN -> 0 | W15: nicht Ackerfläche
A16: 1.1.3 | B16: 0 | C16: prairies artificielles (PA) | I16: =+B16/LN -> 0 | K16: =MAX(SUM(B14:B16),1) -> 1 | O16: NP: | R16: Lieu:
A17: 1.1.4 | B17: è | C17: =+B16+offene_Ackerfläche -> 0 | D17: terre assolée (TA) (total) | I17: =+Ackerfläche/LN -> 0
A18: 1.1.5 | B18: =+LN-SUM(B14:B16) -> 1 | C18: autres surfaces (surfaces à litière, cultures pérennes etc.)
C19: è | D19: =+DGL+Streuefläche+G68 -> 0 | E19: Grünland_plus_Streueland
B20: Cultures spéciales
B21: =+LN -> 1 | C21: surface agricole utile (SAU), dont:
A22: 1.1.6 | B22: 0 | C22: Cultures spéciales (toutes les codes)
A23: 1.1.6.1 | B23: =+LN-Spezialkulturen -> 1 | C23: SAU sans cultures spéciales
B25: Zones
A26: 1.2 | B26: =LN-B27-B28 -> 1 | C26: SAU en zone de plaine - des collines | I26: =+B26/LN -> 1 | O26: N° d'exploitation: | S26: N° IPS:
A27: 1.2.1 | B27: 0 | C27: SAU en zone de montagne I - II | I27: =+B27/LN -> 0 | K27: =+IF(AND(I27>I26,I27>I28),"exploitation ZM I","")
A28: 1.2.2 | B28: 0 | C28: SAU en zone de montagne III - IV | I28: =+B28/LN -> 0 | K28: =+IF(AND(I28>I26,I28>=I27),"exploitation ZM II-IV","") | O28: Tel.
B29: =+IF(AND(I26>I27+I28,B26<>1), "exploitation de plaine: remplissez la questionnaire 'plaine' s.v.p.","")
B30: Unité gros bétail | O30: eMail:
A31: 2 | B31: 0 | C31: UGBF totaux è | E31: =+B31/LN -> 0 | F31: UGBF/ha
A33: B. Biodiversité | M33: Points | O33: 1 pt | P33: 2 pts | Q33: 3 pts | R33: 4 pts | U33: Unité
B35: Viehbesatz
A36: 2 | B36: 9999 | C36: DGVE total
C37: è | D37: =+B36/B13 -> 9999 | E37: DGVE/ha | M37: =+IF(D37<AD37,AE37,IF(D37<AB37,AC37,IF(D37<=Z37,AA37,IF(D37<=X37,Y37,)))) -> 0 | O37: =+">"&Z37&"-"&X37 -> >1.3-1.6 | P37: =+AB37&"-"&Z37 -> 1-1.3 | Q37: =+AB37&"-"&AD37 -> 1- | R37: =+"<"&AD37 -> < | U37: DGVE/ha: | X37: 1.6 | Y37: 1 | Z37: 1.3 | AA37: 2 | AB37: 1 | AC37: 3
B39: Utilisation des parcelles
A40: 3 | B40: 1 | C40: nombre d'unité d'utilisation (sans les SPB)
C41: è | D41: =(LN-öAF_ohne_Bäume)/(Nutzungsparzellen) -> 1 | E41: taille moyenne
B42: =+IF(I27>I28,"exploitation ZM I - II","pas nécessaire pour les exploitations ZM III - IV") -> pas nécessaire pour les exploitations ZM III - IV | M42: =IF(Nutzungsparzellen=1,0,IF(I27>I28,IF(D41<AD42,AE42,IF(D41<AB42,AC42,IF(D41<Z42,AA42,IF(D41<X42,Y42,0)))),0)) -> 0 | O42: =Z42&"–"&X42 -> 1.1–1.3 | P42: =+AB42&"–<"&Z42 -> 0.9–<1.1 | Q42: =+AD42&"–<"&AB42 -> 0.7–<0.9 | R42: =+"<"&AD42 -> <0.7 | U42: moyenne ha | X42: 1.3 | Y42: 1 | Z42: 1.1 | AA42: 2 | AB42: 0.9 | AC42: 3 | AD42: 0.7 | AE42: 4
B43: =+IF(I28>I27,"exploitation ZM III - IV","pas nécessaire pour les exploitations ZM I - II") -> pas nécessaire pour les exploitations ZM I - II | M43: =IF(Nutzungsparzellen=1,0,IF(I28>=I27,IF(D41<AD43,AE43,IF(D41<AB43,AC43,IF(D41<Z43,AA43,IF(D41<X43,Y43,0)))),0)) -> 0 | O43: =Z43&"–"&X43 -> 0.9–1.1 | P43: =+AB43&"–<"&Z43 -> 0.7–<0.9 | Q43: =+AD43&"–<"&AB43 -> 0.5–<0.7 | R43: =+"<"&AD43 -> <0.5 | U43: moyenne ha | V43: 2 | X43: 1.1 | Y43: 1 | Z43: 0.9 | AA43: 2 | AB43: 0.7 | AC43: 3 | AD43: 0.5 | AE43: 4
B45: Type de production
B46: quel type de production représente au min. 8% de la SAU de l'exploitation?
B47: FALSE | E47: FALSE | I47: FALSE
B48: FALSE | E48: FALSE | I48: FALSE
B49: FALSE | E49: FALSE | I49: FALSE
A50: 4 | B50: =COUNTIF(A47:J49,TRUE) -> 0 | C50: types d'utilisation | M50: =IF(B50>=AD50,AE50,IF(B50>=AB50,AC50,IF(B50>=Z50,AA50,0))) -> 0 | P50: =+Z50 -> 2 | Q50: =+AB50 -> 3 | R50: =+">="&AD50 -> >=4 | U50: Type d'utilisation | V50: 2 | Z50: 2 | AA50: 2 | AB50: 3 | AC50: 3 | AD50: 4 | AE50: 4
A52: Surfaces de promotion de la biodiversité | M52: Points | N52: Total | O52: 1 pt | P52: 2 pts | Q52: 3 pts | R52: 4 pts | S52: 5 pts | T52: 6 pts | U52: Unité
A54: 5 | B54: Surfaces de promotion de la biodiversité (SPB)
B55: Type de SPB | G55: annoncées | I55: avec | K55: avec
I56: qualité OQE | K56: diversité des structures
A58: 5.1 | B58: prairie extensive (611) | G58: 0 | I58: 0 | K58: 0 | M58: =IF(SUM(G58:G60, G69)>DGL,"la surface des SPB consacrée aux prairies ne doit pas dépasser les prairies permanentes","")
A59: 5.2 | B59: prairie peu intensive (612) | G59: 0 | I59: 0 | K59: 0
A60: 5.3 | B60: pâturage extensif (617) ou boisé (618, 625) | G60: 0 | I60: 0 | K60: 0
A61: 5.4 | B61: jachère florale (556) | G61: 0 | I61: =G61 -> 0 | K61: =G61 -> 0
A62: 5.5 | B62: jachère tournante (557) | G62: 0 | I62: =G62 -> 0 | K62: =G62 -> 0
A63: 5.6 | B63: ourlet sur terres assolées (559) | G63: 0 | I63: =G63 -> 0 | K63: =G63 -> 0
A64: 5.7 | B64: bande culturale extensive | G64: 0 | I64: =G64 -> 0
A65: 5.8 | B65: bandes fleuries p. pollinisateurs (572) | G65: 0
B66: dont pluriannuelles | I66: 0 | K66: =+I66 -> 0
A67: 5.8.1 | B67: Bandes semées pour organismes utiles en cultures pérennes et ligneux | G67: 0
A68: 5.9 | B68: haie, bosquet, berge boisée (582, 585) | G68: 0 | I68: 0 | K68: 0
A69: 5.10 | B69: surfaces à litière (851) | G69: 0 | I69: =G69 -> 0 | K69: 0
A70: 5.11 | B70: prairies riveraines (835) | G70: 0 | K70: 0
A71: 5.12 | B71: Surfaces viticoles présentant une biodiversité naturelle (717) | G71: 0 | I71: 0 | K71: 0
A72: 5.13 | B72: autres types (904, 905) | G72: 0
A73: 5.14 | B73: arbres comme SPB (921, 924) | G73: 0 | I73: 0
B74: è | D74: surface des arbres | G74: =+G73*0.01 -> 0 | I74: =+I73*0.01 -> 0
A76: 5.15 | B76: total SPB sans les arbres | G76: =+SUM(G58:G65, G68:G72) + (G67*0.05) -> 0 | I76: =SUM(I58:I71) -> 0 | K76: =SUM(K58:K72) -> 0
A77: 5.15.1 | B77: en % de la SAU | G77: =+G76/LN -> 0 | W77: =+IF(AND(LN<>1,G77<=0.056),1,0) -> 0
A79: 5.16 | B79: total SPB incl. les arbres | G79: =+öAF_ohne_Bäume+G74 -> 0 | I79: =I76+I74 -> 0 | W79: =+IF(AND(LN<>1,G76/LN<0.072),1,0) -> 0
B81: =LN-Spezialkulturen -> 1 | C81: SAU sans cultures spéciales à 9 % SPB
B82: =Spezialkulturen -> 0 | C82: Cultures spéciales à 5 % SPB
B83: Proportion minimale SPB | G83: =(Spezialkulturen*0.05 + (LN-Spezialkulturen)*0.09)/LN -> 0.09
A84: 5.16.1 | B84: Proportion SPB de la SAU | G84: =+G79/LN -> 0
A85: 5.16.2 | B85: =+IF(I27>I28,"exploitation ZM I - II","pas nécessaire pour les exploitations ZM I - II") -> pas nécessaire pour les exploitations ZM I - II | M85: =+IF(I27>I28,IF(G84>AH85,AI85,IF(G84>AF85,AG85,IF(G84>AD85,AE85,IF(G84>AB85,AC85,IF(G84>Z85,AA85,IF(G84>=X85,Y85,0)))))),0) -> 0 | O85: =X85*100&"–"&Z85*100 -> 7–9 | P85: =+">"&Z85*100&"–"&AB85*100 -> >9–12 | Q85: =+">"&AB85*100&"–"&AD85*100 -> >12–15 | R85: =+">"&AD85*100&"–"&AF85*100 -> >15–18 | S85: =+">"&AF85*100&"–"&AH85*100 -> >18–21 | T85: =+">"&AH85*100 -> >21 | U85: % | V85: 2 | X85: 0.07 | Y85: 1 | Z85: 0.09 | AA85: 2 | AB85: 0.12 | AC85: 3 | AD85: 0.15 | AE85: 4 | AF85: 0.18 | AG85: 5 | AH85: 0.21 | AI85: 6
A86: 5.16.3 | B86: =+IF(I28>=I27,"exploitation ZM III - IV","pas nécessaire pour les exploitations ZM III - IV") -> exploitation ZM III - IV | M86: =+IF(I28>I27,IF(G84>AH86,AI86,IF(G84>AF86,AG86,IF(G84>AD86,AE86,IF(G84>AB86,AC86,IF(G84>Z86,AA86,IF(G84>=X86,Y86,0)))))),0) -> 0 | O86: =X86*100&"–"&Z86*100 -> 12–15 | P86: =+">"&Z86*100&"–"&AB86*100 -> >15–20 | Q86: =+">"&AB86*100&"–"&AD86*100 -> >20–25 | R86: =+">"&AD86*100&"–"&AF86*100 -> >25–30 | S86: =+">"&AF86*100&"–"&AH86*100 -> >30–35 | T86: =+">"&AH86*100 -> >35 | U86: % | X86: 0.12 | Y86: 1 | Z86: 0.15 | AA86: 2 | AB86: 0.2 | AC86: 3 | AD86: 0.25 | AE86: 4 | AF86: 0.3 | AG86: 5 | AH86: 0.35 | AI86: 6
C87: =+IF(AND(G84<G83,M1<22), "Au moins " &G83*100 &"% de SPB ou 22 points de biodiversité doivent être présents sur la SAU pour remplir les conditions du label!","") -> Au moins 9% de SPB ou 22 points de biodiversité doivent être présents sur la SAU pour remplir les conditions du label!
A88: 5.17 | B88: SPB sur terres assolées (OPD) | G88: =+G63+G64+G65+G67+G68 + IF(offene_Ackerfläche>=3,MIN(Ackerfläche*0.0175,G74),0) -> 0
A89: 5.17.1 | B89: % des terres assolées | G89: =+IF(Ackerfläche>0,G88/Ackerfläche,0) -> 0 | W89: =+IF(Ackerfläche<=3,0,IF(G89>=0.03,0,1)) -> 0
A91: 5.17.2 | B91: SPB sur terres assolées en qualitée IPS | I91: =+G61+G62+G63+G64+I66 -> 0
A92: 5.17.3 | B92: % des terres assolées | I92: =+IF(Ackerfläche>0,I91/Ackerfläche,0) -> 0
A94: 5.18 | B94: SPB sur prairies permanentes/s. à lit. | G94: =G58+G59+G60+G68+G69+G70 -> 0 | I94: =+SUM(I58:I72)+I74 -> 0
A95: 5.18.1 | B95: % sur prairies permanentes/surf. à lit. | G95: =+IF(DGL_Streue>0,G94/DGL_Streue,0) -> 0 | I95: =+IF(DGL_Streue>0,I94/DGL_Streue,0) -> 0 | W95: =+IF(DGL<=3,0,IF(G95>=0.09,,1)) -> 0
A97: 5.19 | B97: surface totale des SPB qualité supérieure en qualité IPS | I97: =I79 -> 0
A98: 5.19.1 | B98: en % de la SAU | I98: =+I97/LN -> 0 | M98: =+IF(I98<X98,0,IF(I98>AH98,AI98,1+(100*I98-2))) -> 0 | P98: 2 | R98: linear | T98: =+">"&AH98*100 -> >7 | U98: % | X98: 0.02 | Y98: 1 | AA98: linear! | AH98: 0.07 | AI98: 6
A100: 6.1 | B100: 0 | C100: SPB en zone de plaine/des collines | G100: =+IF(B26>0,B100/B26,0) -> 0 | H100: SAU en ZP/ZC | W100: =+IF(AND(B26>3,B26<10,G100<0.03),1,0)+IF(AND(B26>10,G100<0.06),1,0) -> 0
A101: 6.1.1 | B101: 0 | C101: SPB en zone de montagne I - II | G101: =+IF(B27>0,B101/B27,0) -> 0 | H101: SAU en ZM I - II | W101: =+IF(AND(B27>3,B27<10,G101<0.03),1,0)+IF(AND(B27>10,G101<0.06),1,0) -> 0
A102: 6.1.2 | B102: 0 | C102: SPB en zone de montagne III - IV | G102: =+IF(B28>0,B102/B28,0) -> 0 | H102: SAU en ZM IIi - IV
B103: =+ROUND(G79-SUM(B100:B102),2) -> 0 | C103: =+IF(OR(LN=1,B103=0),"","le bilan des surfaces ne correspond pas! Différence de "&B103&" ha")
A104: 7 | B104: Nombre de SPB de grande taille, avec qualité IPS
A105: 7.1 | B105: 0 | C105: Nombre d'unités de plus de 25a avec qualité IPS
B106: è | C106: =+B105/LN*20 -> 0 | D106: SPB de grande taille par 20 ha SAU | M106: =+IF(C106>AH106,AI106,IF(C106>AF106,AG106,IF(C106>AD106,AE106,IF(C106>AB106,AC106,IF(C106>Z106,AA106,IF(C106>=X106,Y106,0)))))) -> 0 | O106: =+X106&"-"&Z106 -> 1-2 | P106: =+">"&Z106&"-"&AB106 -> >2-3 | Q106: =+">"&AB106&"-"&AD106 -> >3-4 | R106: =+">"&AD106&"-"&AF106 -> >4-5 | S106: =+">"&AF106&"-"&AH106 -> >5-6 | T106: =+">"&AH106 -> >6 | V106: 3 | X106: 1 | Y106: 1 | Z106: 2 | AA106: 2 | AB106: 3 | AC106: 3 | AD106: 4 | AE106: 4 | AF106: 5 | AG106: 5 | AH106: 6 | AI106: 6
B107: Leerzellen, damit gleiche Zeilenzahl wie plaine
A114: 8 | B114: SPB avec diversité des structures
A115: 8.1 | B115: =+K76 -> 0 | C115: total des surfaces SPBE avec diversité des structures
B116: è | C116: =+B115/LN -> 0 | D116: de la SAU | M116: =+IF(C116>AB116,AC116,IF(C116>Z116,AA116,IF(C116>=X116,Y116,0))) -> 0 | O116: =+X116*100&"-"&Z116*100 -> 5-7 | P116: =+">"&Z116*100&"-"&AB116*100 -> >7-9 | Q116: =+">"&AB116*100 -> >9 | U116: % | V116: 2 | X116: 0.05 | Y116: 1 | Z116: 0.07 | AA116: 2 | AB116: 0.09 | AC116: 3
A118: 9 | B118: Répartition spatiale des SPB
A119: 9.1.1 | B119: 0 | C119: dont avec SPB d'au moins 10 a
B120: è | C120: =+B119/LN*20 -> 0 | D120: des unités utilisation | M120: =+IF(C120>AD120,AE120,IF(C120>AB120,AC120,IF(C120>Z120,AA120,IF(C120>=X120,Y120,0)))) -> 0 | O120: =+X120&"-"&Z120 -> 3-5 | P120: =+">"&Z120&"-"&AB120 -> >5-7 | Q120: =+">"&AB120&"-"&AD120 -> >7-9 | R120: =+">"&AD120 -> >9 | V120: 3 | X120: 3 | Y120: 1 | Z120: 5 | AA120: 2 | AB120: 7 | AC120: 3 | AD120: 9 | AE120: 4
B121: Leerzellen, damit Zeilenzahl gleich wie Talzone
A128: Points exploitation et surfaces de pormotion de la biodiversité | N128: =M120+M116+M106+M98+M86+M85+M50+M43+M42 -> 0
A129: Mesures de revalorisation sur les surfaces de production
A131: Terres ouvertes | M131: Points | N131: Total | O131: 0.5 Pt. | P131: 1 Pt. | Q131: 1.5 Pt. | R131: 2 Pt. | U131: Unité
A133: 10 | B133: Mesures sur les terres ouvertes
A134: 10.1 | B134: 0 | C134: surface sans semis (patch dans les céréales, colza, tournesol ou maïs)
B135: è | C135: =+IF(offene_Ackerfläche>0,B134/offene_Ackerfläche,0) -> 0 | D135: des terres ouvertes | M135: =+IF(C135>AD135,AE135,IF(C135>AB135,AC135,IF(C135>Z135,AA135,IF(C135>=X135,Y135,0)))) -> 0 | O135: =+X135*100&"-"&Z135*100 -> 3-5 | P135: =+">"&Z135*100&"-"&AB135*100 -> >5-10 | Q135: =+">"&AB135*100&"-"&AD135*100 -> >10-20 | R135: =+">"&AD135*100 -> >20 | U135: % | X135: 0.03 | Y135: 0.5 | Z135: 0.05 | AA135: 1 | AB135: 0.1 | AC135: 1.5 | AD135: 0.2 | AE135: 2
...

Sheet ferme+
A1: E mesures ferme+ | D1: points ferme+: | E1: =" " & Pkt_Hofplus -> 0 | F1: =+SUM(B3:C55) -> 0
B3: 0 | D3: valeur en points reportée à la main
A5: Nr. | B5: Conditions initiales | C5: mesures | D5: Secteur de mesures / mesures individuelles | E5: Critères minimaux
B6: Si oui : inscrire « 1 »
D7: Conditions initiales
A8: 1.1 | B8: 0 | D8: Renoncement aux herbicides
A9: 1.2 | B9: 0 | D9: Puits, avaloirs, points d’eau couverts
A10: 1.3 | B10: 0 | D10: Aides pour ressortir d'un endroit (fontaine, bassin, escaliers de cave)
D12: Mesures
A13: Vous obtenez une grande diversité sur votre ferme, si vous implémentez des mesures dans chaque catégorie (2.1, 2.2 etc.).
D14: Créer des possibilités de nidification
A15: 2.1.1 | C15: 0 | D15: Nichoirs pour faucons crécerelles et effraies des clochers | E15: 2 nichoirs à des emplacements appropriés
A16: 2.1.2 | C16: 0 | D16: Aides à la nidification pour hirondelles | E16: hirondelle rustique/hirondelle de fenêtre : 5 nids naturels ou artificiels
A17: 2.1.3 | C17: 0 | D17: Aides à la nidification pour martinets | E17: 3 nichoirs à des emplacements appropriés
A18: 2.1.4 | C18: 0 | D18: Aides à la nidification pour oiseaux cavernicoles et semi-cavernicoles | E18: 10 nichoirs pour différentes espèces
A19: 2.1.5 | C19: 0 | D19: Nichoirs à chauves-souris | E19: 2 nichoirs à des emplacements appropriés
A20: 2.1.6 | C20: 0 | D20: Aides à la nidification pour abeilles sauvages | E20: Des éléments de 1 m², profondeur minimale de 15 cm
D22: Éléments structurels | E22: Pas de déchets (ferraille, palettes, gravats, etc.)
A23: 2.2.1 | C23: 0 | D23: Tas de bois, tas de planches | E23: 3 stères (3 m³)
A24: 2.2.2 | C24: 0 | D24: Tas de pierres, tas de branches, tuiles empilées, tas de sable, souches | E24: abords de ferme grande : 5 éléments de 2 m², hauteur minimale de 50 cm; abords de ferme petite : 3 éléments de 2 m², hauteur minimale de 50 cm
A25: 2.2.3 | C25: 0 | D25: Murs de pierres sèches, gabions recouverts de végétation | E25: 5 mètres courants, hauteur minimale de 50 cm
D27: Milieux humides
A28: 2.3.1 | C28: 0 | D28: Points d’eau ouverts : étangs, mares, flaques (eau régulièrement présente), fossés | E28: 6 m²
A29: 2.3.2 | C29: 0 | D29: Fontaine de ferme (eau de source) | E29: 1 fontaine dont l'eau coule en permanence
D31: Zones rudérales et mégaphorbiaies
A32: 2.4.1 | C32: 0 | D32: Mégaphorbiaies et surfaces rudérales sèches couvertes de végétation | E32: abords de ferme grande : 30 m² ; abords de ferme petite : 15 m²
A34: 2.5 | D34: Zones rudérales et mégaphorbiaies
A35: 2.5.1 | C35: 0 | D35: Gravier, sable, marne, glaise, pavés | E35: ½ des abords de ferme au total
D37: Façades et toitures végétalisées et proches de l’état naturel
A38: 2.6.1 | C38: 0 | D38: Façades végétalisées | E38: 10 m² au total
A39: 2.6.2 | C39: 0 | D39: Façades en bardeaux érodés | E39: 10 m² au total
A40: 2.6.3 | C40: 0 | D40: Vieux murs en pierre brute avec des cavités | E40: 10 m² au total
A41: 2.6.4 | C41: 0 | D41: Façades avec revêtement en bois | E41: 10 m² au total
A42: 2.6.5 | C42: 0 | D42: Toits en pierre, toit de bardeaux, toits avec tuiles à emboîtement | E42: 10 m² au total
A43: 2.6.6 | C43: 0 | D43: Toits végétalisés | E43: 20 m² au total
D45: Éléments de jardin naturels aux abords de la ferme
A46: 2.7.1 | C46: 0 | D46: Vieux arbres | E46: 2 arbres situés à 20 m max. des bâtiments de la ferme : diamètre du tronc de 30 cm au minimum
A47: 2.7.2 | C47: 0 | D47: Arbustes avec des baies | E47: 4 arbustes indigènes
A48: 2.7.3 | C48: 0 | D48: Haies | E48: 8 mètres courants, largeur minimale de la haie de 1 m
A49: 2.7.4 | C49: 0 | D49: Pergola avec vigne | E49: Minimum 10 m²
A50: 2.7.5 | C50: 0 | D50: Clôture en saule (vivant), clôture en bois | E50: 10 mètres courants
A51: 2.7.6 | C51: 0 | D51: Cabane en branches de saules | E51: 6 m²
D53: Jardins paysans variés
A54: 2.8.1 | C54: 0 | D54: Mélange des plantes utilitaires et ornementales | E54: 50 m²
B56: =SUM(B8:B10) -> 0 | D56: Conditions initiales remplies | E56: =IF(B56=3,"", "Les 3 Conditions initiales doivent être remplies pour générer des points") -> Les 3 Conditions initiales doivent être remplies pour générer des points
C57: =SUM(C15:C54) -> 0 | D57: mesures remplies
A59: Le nombre de points qui compte pour le système à points de la biodiversité IPS | E59: =IF(B3>0,B3,IF(SUM(B8:B10)<>3,0,IF(C57<10,"0",IF(C57<14,"0.5",IF(C57<18,"1.0",IF(C57>17,1.5)))))) -> 0 | G59: =IF(OR(F11<>3,C57<10),"",IF(C57>17,"Gold",IF(C57>13,"Silber","Bronze")))
A61: © IP-Suisse & Station ornithologique, 9. Sept. 2025

Sheet maraîchère
A1: C : mesures en cultures maraîchères | H1: Points cultures maraîchères (pondérée) : | I1: =+I81 -> 0 | L1: =+SUM(B3:B75)+COUNTA(D60:F60,D68:F68,D72:F72,D76:F76) -> 0
B3: 0 | C3: Cultures maraîchères de plein champ annuelles (545)
B5: 0 | C5: Cultures maraîchères sous abri sans fondations permanentes, sur sol naturel (811)
A7: CI : Surfaces de promotion de la biodiversité (SPB) & promotion de la biodiversité fonctionnelle | F7: points | H7: 0.5 pt | I7: 1 pt | J7: 1.5 pts | K7: 2 pts | L7: unité
A9: 17.1 | B9: 0 | C9: Diversité des types de SPB pluriannuelles des terres assolées | F9: =+IF(B9=O9,P9,IF(B9=Q9,R9,IF(B9=S9,T9,0))) -> 0 | I9: =O9 -> 2 | J9: =Q9 -> 3 | K9: =S9 -> 4 | L9: types | O9: 2 | P9: 1 | Q9: 3 | R9: 1.5 | S9: 4 | T9: 2
C10: Tous les types de SPB de qualité IPSUISSE sur les surfaces de cultures maraîchères (à l'intérieur et à proximité [50 m] des cultures maraîchères) sont pris en compte (par type de SPB, au moins 10 % de la surface totale des SPB pluriannuelles sur l'exploitation).
A12: 17.2 | B12: 0 | C12: Bandes semées annuelles et pluriannuelles pour organismes utiles | F12: =+IF(D14>S12,T12,IF(D14>Q12,R12,IF(D14>O12,P12,IF(D14>=M12,N12,0)))) -> 0 | H12: =M12*100 & "–" & O12*100 -> 2–3 | I12: =">" & O12*100 & "–" & Q12*100 -> >3–4 | J12: =">" & Q12*100 & "–" & S12*100 -> >4–5 | K12: =">" & S12*100 -> >5 | L12: % | M12: 0.02 | N12: 0.5 | O12: 0.03 | P12: 1 | Q12: 0.04 | R12: 1.5 | S12: 0.05 | T12: 2
C13: sur/près des parcelles de légumes
C14: % des cultures maraîchères (plain champ) | D14: =+IF(B12>0,B12/Gemüse_Freiland,0) -> 0
A16: 17.3 | B16: 0 | C16: Semis/plantation de plantes compagnes favorisant les insectes utiles | F16: =+IF(D18>S16,T16,IF(D18>Q16,R16,IF(D18>O16,P16,IF(D18>=M16,N16,0)))) -> 0 | H16: =M16*100 & "–" & O16*100 -> 0.5–1.5 | I16: =">" & O16*100 & "–" & Q16*100 -> >1.5–2.5 | J16: =">" & Q16*100 & "–" & S16*100 -> >2.5–3.5 | K16: =">" & S16*100 -> >3.5 | L16: % | M16: 0.005 | N16: 0.5 | O16: 0.015 | P16: 1 | Q16: 0.025 | R16: 1.5 | S16: 0.035 | T16: 2
C17: (au moins 10 plantes/are) dans les cultures de choux
C18: % des cultures maraîchères (plain champ) | D18: =+IF(B16>0, B16/Gemüse_Freiland,0) -> 0
A20: 17.4 | B20: 0 | C20: allées engazonnées avec un mélange riche en espèces/fleuri | F20: =+IF(B20>S20,T20,IF(B20>Q20,R20,IF(B20>O20,P20,IF(B20>=M20,N20,0)))) -> 0 | H20: =M20*100 & "–" & O20*100 -> 10–25 | I20: =">" & O20*100 & "–" & Q20*100 -> >25–50 | J20: =">" & Q20*100 & "–" & S20*100 -> >50–90 | K20: =">" & S20*100 -> >90 | L20: % | M20: 0.1 | N20: 0.5 | O20: 0.25 | P20: 1 | Q20: 0.5 | R20: 1.5 | S20: 0.9 | T20: 2
C21: > proportion des allées engazonnées en % de toutes les allées
A23: 17.5 | B23: 0 | C23: Aménagement et entretien extensif de structures périphériques et | F23: =+IF(D26>S23,T23,IF(D26>Q23,R23,IF(D26>O23,P23,IF(D26>=M23,N23,0)))) -> 0 | H23: =M23*100 & "–" & O23*100 -> 1.5–2 | I23: =">" & O23*100 & "–" & Q23*100 -> >2–2.5 | J23: =">" & Q23*100 & "–" & S23*100 -> >2.5–3 | K23: =">" & S23*100 -> >3 | L23: % | M23: 0.015 | N23: 0.5 | O23: 0.02 | P23: 1 | Q23: 0.025 | R23: 1.5 | S23: 0.03 | T23: 2
C24: de bandes transversales riches en espèces
C25: Côté longitudinal des surfaces de culture maraîchère ou bandes transversales à l'intérieur de la culture maraîchère imputables (largeur minimale : 3 m)
C26: % des cultures maraîchères (plain champ) | D26: =+IF(B23>0, B23/Gemüse_Freiland,0) -> 0
A28: 17.6 | B28: 0 | C28: Revalorisation des surfaces issues de la mesure 17.5 avec de petites structures | F28: =+IF(B28>S28,T28,IF(B28>Q28,R28,IF(B28>O28,P28,IF(B28=M28,N28,0)))) -> 0 | H28: 3 a | I28: >3–6 a | J28: >6–9 a | K28: >9 a | L28: a | M28: 0.03 | N28: 0.5 | O28: 0.03 | P28: 1 | Q28: 0.06 | R28: 1.5 | S28: 0.09 | T28: 2
C29: Au moins 2 petites structures par 3a de structures périphériques
C30: La valeur dans C6 ne peut être indiquée que si le nombre minimum des petites structures est atteint. | D30: =IF(B28>S28,S30,IF(B28>Q28,Q30,IF(B28>O28,O30,IF(B28>=M28,M30,0)))) -> 0 | E30: minimum des petites structures | M30: 2 | O30: 4 | Q30: 6 | S30: 8
A32: 17.7 | B32: 0 | C32: Culture intermédiaire fleurie en été | F32: =+IF(D34>S32,T32,IF(D34>Q32,R32,IF(D34>O32,P32,IF(D34>=M32,N32,0)))) -> 0 | H32: =M32*100 & "–" & O32*100 -> 2.5–5 | I32: =">" & O32*100 & "–" & Q32*100 -> >5–7.5 | J32: =">" & Q32*100 & "–" & S32*100 -> >7.5–10 | K32: =">" & S32*100 -> >10 | L32: % | M32: 0.025 | N32: 0.5 | O32: 0.05 | P32: 1 | Q32: 0.075 | R32: 1.5 | S32: 0.1 | T32: 2
C33: Semis du mélange jusqu‘à fin juin au plus tard ; durée minimale : 8 semaines, ensemencement jusqu'au 30. Juni
C34: % des cultures maraîchères (plain champ) | D34: =+IF(B32>0, B32/Gemüse_Freiland,0) -> 0
A36: 17.8 | B36: 0 | C36: Diversité de cultures maraîchères issues de différentes | F36: =+IF(B36>=S36,T36,IF(B36=Q36,R36,IF(B36=O36,P36,IF(B36=M36,N36,0)))) -> 0 | H36: 5 | I36: 6 | J36: 7 | K36: > 7 | L36: families | M36: 5 | N36: 0.5 | O36: 6 | P36: 1 | Q36: 7 | R36: 1.5 | S36: 8 | T36: 2
C37: familles de plantes (botanique)
C38: pour ≤ 7 familles : au moins 8 % des cultures maraîchères, ou 4 % pour > 7 familles (hors cultures sous abri)
A40: C II: Mesures dans et autour des cultures maraîchères sous abri | H40: 0.5 pt | I40: 1 pt | J40: 1.5 pts | K40: 2 pts | L40: unité
A42: 17.9 | B42: 0 | C42: Bandes semées pour organismes utiles et/ou plantes compagnes favorisant les auxiliaires dans les cultures sous abri | F42: =+IF(D44>S42,T42,IF(D44>Q42,R42,IF(D44>O42,P42,IF(D44>=M42,N42,0)))) -> 0 | H42: =M42*100 & "–" & O42*100 -> 1–1.5 | I42: =">" & O42*100 & "–" & Q42*100 -> >1.5–2 | J42: =">" & Q42*100 & "–" & S42*100 -> >2–2.5 | K42: =">" & S42*100 -> >2.5 | L42: % | M42: 0.01 | N42: 0.5 | O42: 0.015 | P42: 1 | Q42: 0.02 | R42: 1.5 | S42: 0.025 | T42: 2
C43: favorisant les auxiliaires dans les cultures sous abri
C44: % des cultures maraîchères sous abri (811) | D44: =+IF(B42>0, B42/Gemüse_geschützt,0) -> 0
A46: 17.10 | B46: 0 | C46: Bandes de prairie riches en espèces le long des cultures maraîchères | F46: =+IF(D48>Q46,R46,IF(D48>O46,P46,IF(D48>=M46,N46,0))) -> 0 | I46: =M46*100 & "-" & O46*100 -> 5-10 | J46: =">" & O46*100 & "–" & Q46*100 -> >10–15 | K46: =">" & Q46*100 -> >15 | L46: % | M46: 0.05 | N46: 1 | O46: 0.1 | P46: 1.5 | Q46: 0.15 | R46: 2
C47: Ensemencement d‘un mélange pluriannuel riche en espèces le long de tunnels en plastique (largeur mind. 1 m; surface min. 1 a)
C48: % des cultures maraîchères sous abri (811) | D48: =+IF(B46>0, B46/Gemüse_geschützt,0) -> 0
A50: 17.11 | B50: 0 | C50: Revalorisation des surfaces issues de la mesure 17.10 avec des petites structures | F50: =+IF(B46>0,IF(B50/B46>=M50,1,0),0) -> 0 | I50: =_xlfn.CONCAT(">=",M50*100,"%") -> >=10% | M50: 0.1 | N50: 1
A52: C III: Production de légumes préservant les ressources | H52: 0.5 pt | I52: 1 pt | J52: 1.5 pt | K52: 2 pt | L52: unité
A54: 17.12 | B54: 0 | C54: Sous-semis dans les cultures maraîchères principales | F54: =+IF(D55>S54,T54,IF(D55>Q54,R54,IF(D55>O54,P54,IF(D55>=M54,N54,0)))) -> 0 | H54: =M54*100 & "–" & O54*100 -> 1–5 | I54: =">" & O54*100 & "–" & Q54*100 -> >5–10 | J54: =">" & Q54*100 & "–" & S54*100 -> >10–15 | K54: =">" & S54*100 -> >15 | L54: % | M54: 0.01 | N54: 0.5 | O54: 0.05 | P54: 1 | Q54: 0.1 | R54: 1.5 | S54: 0.15 | T54: 2
C55: traitement en bande ou pulvérisation ciblée autorisée % des cultures maraîchères (plain champ) | D55: =+IF(B54>0, B54/Gemüse_Freiland,0) -> 0
A57: 17.13 | B57: 0 | C57: Renoncement des herbicides dans les cultures maraîchères | F57: =+IF(D59>S57,T57,IF(D59>Q57,R57,IF(D59>O57,P57,IF(D59>=M57,N57,0)))) -> 0 | H57: =M57*100 & "–" & O57*100 -> 1–20 | I57: =">" & O57*100 & "–" & Q57*100 -> >20–60 | J57: =">" & Q57*100 & "–" & S57*100 -> >60–80 | K57: =">" & S57*100 -> >80 | L57: % | M57: 0.01 | N57: 0.5 | O57: 0.2 | P57: 1 | Q57: 0.6 | R57: 1.5 | S57: 0.8 | T57: 2
C58: ungenutze Leerzeile, damit Zeilenzahl mit Version "Gemüse" übereinstimmt
C59: % des cultures maraîchères (plain champ) | D59: =+IF(B57>0, B57/Gemüse_Freiland,0) -> 0
C60: quelles cultures ?
A62: 17.14 | B62: 0 | C62: Renoncement total des herbicides dans les cultures maraîchères | F62: =+IF(D63>S62,T62,IF(D63>Q62,R62,IF(D63>O62,P62,IF(D63>=M62,N62,0)))) -> 0 | H62: =M62*100 & "–" & O62*100 -> 0–0 | I62: =">" & O62*100 & "–" & Q62*100 -> >0–0 | J62: =">" & Q62*100 & "–" & S62*100 -> >0–0 | K62: =">" & S62*100 -> >0 | L62: %
C63: % des cultures maraîchères (plain champ) | D63: =+IF(B62>0, B62/Gemüse_Freiland,0) -> 0
C64: quelles cultures ?
A66: 17.15 | B66: 0 | C66: Surfaces sans insecticides ni acaricides chimiques de synthèse | F66: =+IF(D67>S66,T66,IF(D67>Q66,R66,IF(D67>O66,P66,IF(D67>=M66,N66,0)))) -> 0 | H66: =M66*100 & "–" & O66*100 -> 5–10 | I66: =">" & O66*100 & "–" & Q66*100 -> >10–30 | J66: =">" & Q66*100 & "–" & S66*100 -> >30–60 | K66: =">" & S66*100 -> >60 | L66: % | M66: 0.05 | N66: 0.5 | O66: 0.1 | P66: 1 | Q66: 0.3 | R66: 1.5 | S66: 0.6 | T66: 2
C67: % des cultures maraîchères (plain champ) | D67: =+IF(B66>0, B66/Gemüse_Freiland,0) -> 0
C68: quelles cultures ?
A70: 17.16 | B70: 0 | C70: Renoncement total d‘insecticides et d‘acaricides | F70: =+IF(D71>S70,T70,IF(D71>Q70,R70,IF(D71>O70,P70,IF(D71>=M70,N70,0)))) -> 0 | H70: =M70*100 & "–" & O70*100 -> 1–5 | I70: =">" & O70*100 & "–" & Q70*100 -> >5–10 | J70: =">" & Q70*100 & "–" & S70*100 -> >10–15 | K70: =">" & S70*100 -> >15 | L70: % | M70: 0.01 | N70: 0.5 | O70: 0.05 | P70: 1 | Q70: 0.1 | R70: 1.5 | S70: 0.15 | T70: 2
C71: % des cultures maraîchères (plain champ) | D71: =+IF(B70>0, B70/Gemüse_Freiland,0) -> 0
C72: quelles cultures ?
A74: 17.17 | B74: 0 | C74: Renoncement total de fongicides | F74: =+IF(D75>S74,T74,IF(D75>Q74,R74,IF(D75>O74,P74,IF(D75>=M74,N74,0)))) -> 0 | H74: =M74*100 & " - " & O74*100 & " %" -> 5 - 10 % | I74: =">" & O74*100 & " - " & Q74*100 & " %" -> >10 - 15 % | J74: =">" & Q74*100 & " - " & S74*100 & " %" -> >15 - 20 % | K74: =">" & S74*100 & " %" -> >20 % | M74: 0.05 | N74: 0.5 | O74: 0.1 | P74: 1 | Q74: 0.15 | R74: 1.5 | S74: 0.2 | T74: 2
C75: % des cultures maraîchères (plain champ) | D75: =+IF(B74>0, B74/Gemüse_Freiland,0) -> 0
C76: quelles cultures ?
A78: Sous-total mesures de revalorisation de la culture maraîchère | F78: =SUM(F9:F76) -> 0
C79: proportion des cultures maraîchères dans SAU | D79: =(Gemüse_Freiland+Gemüse_geschützt)/data!SAU -> 0
A81: Points pour cultures maraîchères (pondéré par culture maraîchère et la SAU) | G81: =F78*D79 -> 0
A83: © IP-Suisse & Station ornithologique, 22. Sept. 2025

Sheet viticulture
A1: D: mesures viticulture | D1: Points viticulture (pondérée) : | E1: =+E30 -> 0 | G1: =+SUM(B3:B24) -> 0 | H1: 1. Grenze | I1: 1. Wert | J1: 2. Grenze | K1: 2. Wert | L1: 3. Grenze | M1: 3. Wert | N1: 4. Grenze | O1: 4. Wert
D2: Anteil | E2: Punkte
B3: 0 | C3: Surface viticole (701, 717, 737)
A5: 18.1 | B5: 0 | C5: Non-recours aux herbicides dans la surface viticole
C6: selon OPD | G6: =+">"&H6*100&"–"& J6*100&"%"&" = "&I6&" Pkt.; >"&J6*100&"–"&L6*100&"%"&" = "&K6&" Pkt." -> >20–40% = 1 Pkt.; >40–60% = 1.5 Pkt. | H6: 0.2 | I6: 1 | J6: 0.4 | K6: 1.5 | L6: 0.6 | M6: 2 | N6: 0.8 | O6: 2.5
C7: proportion de la surface viticole | D7: =+IF(Reben=0, 0,B5/viticulture!Reben) -> 0 | E7: =+IF(D7>N6,O6,IF(D7>L6,M6,IF(D7>J6,K6,IF(D7>H6,I6,0)))) -> 0 | G7: =+">"&L6*100&"–"&N6*100&"%"&" = "&M6&" Pkt.; >"&N6*100&"%"&" = "&O6&" Pkt." -> >60–80% = 2 Pkt.; >80% = 2.5 Pkt.
A9: 18.2 | B9: 0 | C9: Couverture appropriée du sol en viticulture
C10: selon OPD
C11: proportion de la surface viticole | D11: =+IF(Reben=0, 0,B9/viticulture!Reben) -> 0 | E11: =+IF(D11=H11,I11,0) -> 0 | G11: =+""&H11*100&"%"&" = "&I11&" Pkt." -> 100% = 1 Pkt. | H11: 1 | I11: 1
A13: 18.3 | B13: 0 | C13: Non-recours aux insecticides, acaricides et
C14: fongicides après la floraison dans la surface viticole selon OPD | G14: =+">"&H15*100&"–"&J15*100&"%"&" = "&I15&" Pkt.; >"&J15*100&"–"&L15*100&"%"&" = "&K15&" Pkt." -> >20–40% = 1 Pkt.; >40–60% = 1.5 Pkt.
C15: proportion de la surface viticole | D15: =+IF(Reben=0, 0,B13/viticulture!Reben) -> 0 | E15: =+IF(D15>N15,O15,IF(D15>L15,M15,IF(D15>J15,K15,IF(D15>H15,I15,0)))) -> 0 | G15: =+">"&L15*100&"–"&N15*100&"%"&" = "&M15&" Pkt.; >"&N15*100&"%"&" = "&O15&" Pkt." -> >60–80% = 2 Pkt.; >80% = 2.5 Pkt. | H15: 0.2 | I15: 1 | J15: 0.4 | K15: 1.5 | L15: 0.6 | M15: 2 | N15: 0.8 | O15: 2.5
A17: 18.4 | B17: 0 | C17: Exploitation de la surface viticole à l’aide d’intrants
C18: conformes à l’agriculture biologique selon OPD | G18: =+">"&H19*100&"–"&J19*100&"%"&" = "&I19&" Pkt.; >"&J19*100&"–"&L19*100&"%"&" = "&K19&" Pkt." -> >20–40% = 1.5 Pkt.; >40–60% = 2 Pkt.
C19: proportion de la surface viticole | D19: =+IF(Reben=0, 0,B17/viticulture!Reben) -> 0 | E19: =+IF(D19>N19,O19,IF(D19>L19,M19,IF(D19>J19,K19,IF(D19>H19,I19,0)))) -> 0 | G19: =+">"&L19*100&"–"&N19*100&"%"&" = "&M19&" Pkt.; >"&N19*100&"%"&" = "&O19&" Pkt." -> >60–80% = 2.5 Pkt.; >80% = 3 Pkt. | H19: 0.2 | I19: 1.5 | J19: 0.4 | K19: 2 | L19: 0.6 | M19: 2.5 | N19: 0.8 | O19: 3
A21: 18.5 | B21: 0 | C21: Cépages robustes | G21: =+">"&H22*100&"–"&J22*100&"%"&" = "&I22&" Pkt.; >"&J22*100&"–"&L22*100&"%"&" = "&K22&" Pkt." -> >2–5% = 0.5 Pkt.; >5–10% = 1 Pkt.
C22: proportion de la surface viticole | D22: =+IF(Reben=0, 0,B21/viticulture!Reben) -> 0 | E22: =+IF(D22>L22,M22,IF(D22>J22,K22,IF(D22>H22,I22,0))) -> 0 | G22: =+">"&L22*100&"%"&" = "&M22&" Pkt." -> >10% = 2 Pkt. | H22: 0.02 | I22: 0.5 | J22: 0.05 | K22: 1 | L22: 0.1 | M22: 2
A24: 18.6 | B24: 0 | C24: Surfaces viticoles présentant entre ⅓ et ⅔ de sol nu | G24: =+">"&H25*100&"–"&J25*100&"%"&" = "&I25&" Pkt.; >"&J25*100&"–"&L25*100&"%"&" = "&K25&" Pkt." -> >20–40% = 1 Pkt.; >40–60% = 2 Pkt.
C25: proportion de la surface viticole | D25: =+IF(Reben=0, 0,B24/viticulture!Reben) -> 0 | E25: =+IF(D25>N25,O25,IF(D25>L25,M25,IF(D25>J25,K25,IF(D25>H25,I25,0)))) -> 0 | G25: =+">"&L25*100&"–"&N25*100&"%"&" = "&M25&" Pkt.; >"&N25*100&"%"&" = "&O25&" Pkt." -> >60–80% = 3 Pkt.; >80% = 4 Pkt. | H25: 0.2 | I25: 1 | J25: 0.4 | K25: 2 | L25: 0.6 | M25: 3 | N25: 0.8 | O25: 4
A27: Sous-total mesures de revalorisation de viticulture | E27: =E7+E11+E15+E19+E22+E25 -> 0
B29: =Reben/data!SAU -> 0 | C29: viticulture en SAU
A30: Points pour viticulture (pondéré par viticulture et la SAU) | E30: =+E27*B29 -> 0
A32: © IP-Suisse & Station ornithologique, 18. Sept. 2025

Sheet data
B1: Tal | C1: Berg | D1: Hof+ D | E1: Gemüse | F1: Reben | G1: plaine | H1: montagne | I1: ferme+ | J1: maraîchère | K1: viticulture | L1: Blätter | M1: Daten | N1: feuilles | O1: dates
A4: Kontrollfeld (muss überall WAHR sein) | B4: =+#REF!=0 -> #REF! | C4: =+#REF!=0 -> #REF! | D4: =+#REF!=0 -> #REF! | E4: =+#REF!=0 -> #REF! | F4: =+#REF!=0 -> #REF! | G4: =+plaine!U1=0 -> TRUE | H4: =+montagne!U1=0 -> TRUE | I4: =+'ferme+'!F1=0 -> TRUE | J4: =+maraîchère!L1=0 -> TRUE | K4: =+viticulture!G1=0 -> TRUE | L4: =COUNTIF(B4:F4, FALSE) -> 0 | N4: =COUNTIF(G4:K4, FALSE) -> 0
A6: Warnung | L6: =COUNTIF(L8:L104,">1") -> 0 | N6: =COUNTIF(N8:N104,">1") -> 0
A7: Warnung F
A9: 1.1 LN | B9: =[0]!LN -> #REF! | C9: =[0]!LN -> #REF! | L9: =COUNTIF(B9:F9,">1") -> 0 | M9: =IF(MAX(B9:F9)>0,MAX(B9:F9),1) -> #REF!
A10: 1.1.F SAU (LN) | G10: =plaine!LN -> 1 | H10: =montagne!LN -> 1 | N10: =COUNTIF(G10:K10,">1") -> 0 | O10: =MAX(G10:K10) -> 1
A12: 1.1.6 Spezialkulturen | B12: =+[0]!Spezialkulturen -> #REF! | C12: =+[0]!Spezialkulturen -> #REF! | L12: =COUNTIF(B12:F12,">0") -> 0 | M12: =MAX(B12:K12) -> #REF!
A13: 1.1.6 Cultures spéciales | G13: =+plaine!Spezialkulturen -> 0 | H13: =+montagne!Spezialkulturen -> 0 | N13: =COUNTIF(G13:K13,">0") -> 0 | O13: =MAX(G13:K13) -> 0
A104: ************************************
